Workbook

Sheet Example
A1: CLUB NAME: Coto de Caza
A2: Age Groups | C2: Class Day of Week | E2: Class Time | G2: Price | I2: # of Juniors | K2: Total Crush It Revenue | M2: # of Classes | O2: Payout per Class | P2: # of Instructors | Q2: Payout per Instructor | R2: Crush It Dept. Revenue | T2: Weeks Paid Out | U2: Live HA Balance | V2: Live Crush It Dept. Revenue
G4: 120
A5: 4-6yrs | C5: Tuesday | E5: 6pm | G5: =G4 -> 120 | I5: 10 | K5: =IF(G5,I5*G5,"") -> 1200 | M5: 4 | O5: =IF(M5,K5/M5,"") -> 300 | P5: 1 | Q5: =IF(P5,(O5/P5)*0.5,"") -> 150 | R5: =IF(P5, (O5/2),"") -> 150 | T5: 4 | U5: =IF(T5,K5/2-(Q5*T5),"") -> 0 | V5: =IF(T5,(R5*T5),"") -> 600
G6: =G4 -> 120 | K6: =IF(G6,I6*G6,"") -> 0 | O6: =IF(M6,K6/M6,"") | Q6: =IF(P6,(O6/P6)*0.5,"") | R6: =IF(P6, (O6/2),"") | U6: =IF(T6,K6/2-(Q6*T6),"") | V6: =IF(T6,(R6*T6),"")
G7: =G4 -> 120 | K7: =IF(G7,I7*G7,"") -> 0 | O7: =IF(M7,K7/M7,"") | Q7: =IF(P7,(O7/P7)*0.5,"") | R7: =IF(P7, (O7/2),"") | U7: =IF(T7,K7/2-(Q7*T7),"") | V7: =IF(T7,(R7*T7),"")
G8: =G4 -> 120 | K8: =IF(G8,I8*G8,"") -> 0 | O8: =IF(M8,K8/M8,"") | Q8: =IF(P8,(O8/P8)*0.5,"") | R8: =IF(P8, (O8/2),"") | U8: =IF(T8,K8/2-(Q8*T8),"") | V8: =IF(T8,(R8*T8),"")
G9: =G4 -> 120 | K9: =IF(G9,I9*G9,"") -> 0 | O9: =IF(M9,K9/M9,"") | Q9: =IF(P9,(O9/P9)*0.5,"") | R9: =IF(P9, (O9/2),"") | U9: =IF(T9,K9/2-(Q9*T9),"") | V9: =IF(T9,(R9*T9),"")
G10: =G4 -> 120 | K10: =IF(G10,I10*G10,"") -> 0 | O10: =IF(M10,K10/M10,"") | Q10: =IF(P10,(O10/P10)*0.5,"") | R10: =IF(P10, (O10/2),"") | U10: =IF(T10,K10/2-(Q10*T10),"") | V10: =IF(T10,(R10*T10),"")
R11: =IF(P11, (O11/2),"")
A12: 6-11yrs | C12: Wednesday | E12: 3pm | G12: =G4 -> 120 | I12: 1 | K12: =IF(G12,I12*G12,"") -> 120 | M12: 5 | O12: =IF(M12,K12/M12,"") -> 24 | P12: 1 | Q12: =IF(P12,(O12/P12)*0.5,"") -> 12 | R12: =IF(P12, (O12/2),"") -> 12 | T12: 5 | U12: =IF(T12,K12/2-(Q12*T12),"") -> 0 | V12: =IF(T12,(R12*T12),"") -> 60
G13: =G4 -> 120 | K13: =IF(G13,I13*G13,"") -> 0 | O13: =IF(M13,K13/M13,"") | Q13: =IF(P13,(O13/P13)*0.5,"") | R13: =IF(P13, (O13/2),"") | U13: =IF(T13,K13/2-(Q13*T13),"") | V13: =IF(T13,(R13*T13),"")
G14: =G4 -> 120 | K14: =IF(G14,I14*G14,"") -> 0 | O14: =IF(M14,K14/M14,"") | Q14: =IF(P14,(O14/P14)*0.5,"") | R14: =IF(P14, (O14/2),"") | U14: =IF(T14,K14/2-(Q14*T14),"") | V14: =IF(T14,(R14*T14),"")
G15: =G4 -> 120 | K15: =IF(G15,I15*G15,"") -> 0 | O15: =IF(M15,K15/M15,"") | Q15: =IF(P15,(O15/P15)*0.5,"") | R15: =IF(P15, (O15/2),"") | U15: =IF(T15,K15/2-(Q15*T15),"") | V15: =IF(T15,(R15*T15),"")
G16: =G4 -> 120 | K16: =IF(G16,I16*G16,"") -> 0 | O16: =IF(M16,K16/M16,"") | Q16: =IF(P16,(O16/P16)*0.5,"") | R16: =IF(P16, (O16/2),"") | U16: =IF(T16,K16/2-(Q16*T16),"") | V16: =IF(T16,(R16*T16),"")
G17: =G4 -> 120 | K17: =IF(G17,I17*G17,"") -> 0 | O17: =IF(M17,K17/M17,"") | Q17: =IF(P17,(O17/P17)*0.5,"") | R17: =IF(P17, (O17/2),"") | U17: =IF(T17,K17/2-(Q17*T17),"") | V17: =IF(T17,(R17*T17),"")
R18: =IF(P18, (O18/2),"")
A19: 11-16yrs | G19: =G4 -> 120 | K19: =IF(G19,I19*G19,"") -> 0 | O19: =IF(M19,K19/M19,"") | Q19: =IF(P19,(O19/P19)*0.5,"") | R19: =IF(P19, (O19/2),"") | U19: =IF(T19,K19/2-(Q19*T19),"") | V19: =IF(T19,(R19*T19),"")
G20: =G4 -> 120 | K20: =IF(G20,I20*G20,"") -> 0 | O20: =IF(M20,K20/M20,"") | Q20: =IF(P20,(O20/P20)*0.5,"") | R20: =IF(P20, (O20/2),"") | U20: =IF(T20,K20/2-(Q20*T20),"") | V20: =IF(T20,(R20*T20),"")
G21: =G4 -> 120 | K21: =IF(G21,I21*G21,"") -> 0 | O21: =IF(M21,K21/M21,"") | Q21: =IF(P21,(O21/P21)*0.5,"") | R21: =IF(P21, (O21/2),"") | U21: =IF(T21,K21/2-(Q21*T21),"") | V21: =IF(T21,(R21*T21),"")
G22: =G4 -> 120 | K22: =IF(G22,I22*G22,"") -> 0 | O22: =IF(M22,K22/M22,"") | Q22: =IF(P22,(O22/P22)*0.5,"") | R22: =IF(P22, (O22/2),"") | U22: =IF(T22,K22/2-(Q22*T22),"") | V22: =IF(T22,(R22*T22),"")
G23: =G4 -> 120 | K23: =IF(G23,I23*G23,"") -> 0 | O23: =IF(M23,K23/M23,"") | Q23: =IF(P23,(O23/P23)*0.5,"") | R23: =IF(P23, (O23/2),"") | U23: =IF(T23,K23/2-(Q23*T23),"") | V23: =IF(T23,(R23*T23),"")
G24: =G4 -> 120 | K24: =IF(G24,I24*G24,"") -> 0 | O24: =IF(M24,K24/M24,"") | Q24: =IF(P24,(O24/P24)*0.5,"") | R24: =IF(P24, (O24/2),"") | U24: =IF(T24,K24/2-(Q24*T24),"") | V24: =IF(T24,(R24*T24),"")
A26: Total | G26: =G4 -> 120 | I26: =SUM(I5:I24) -> 11 | K26: =SUM(K5:K24) -> 1320 | M26: =SUM(M5:M24) -> 9 | O26: =SUM(O5:O24) -> 324 | P26: =SUM(P5:P24) -> 2 | Q26: =SUM(Q5:Q24) -> 162 | R26: =SUM(R5:R24) -> 162 | U26: =SUM(U5:U24) -> 0 | V26: =SUM(V5:V24) -> 660
I28: 11 | W28: Needs to equal 1/2 of "total crush it revenue"
T32: Needs to be $0 at end of month
E34: Total from "Starting Month Registrations Page" +/- "Adds & Subs"
G35: *needs to match class total

Sheet Registrations
A1: Starting Month Registrations
A2: First Name | B2: Last Name | C2: Member # | D2: Age Group | E2: Price
A151: Total # of Participants | B151: =COUNTIF(B3:B150,"*") -> 0

Sheet Monthly Adds
A1: January Adds | G1: March Adds | M1: May Adds | S1: July Adds | Y1: September Adds | AE1: November Adds
A2: First Name | B2: Last Name | C2: Member # | D2: Age Group | E2: Price | G2: First Name | H2: Last Name | I2: Member # | J2: Age Group | K2: Price | M2: First Name | N2: Last Name | O2: Member # | P2: Age Group | Q2: Price | S2: First Name | T2: Last Name | U2: Member # | V2: Age Group | W2: Price | Y2: First Name | Z2: Last Name | AA2: Member # | AB2: Age Group | AC2: Price | AE2: First Name | AF2: Last Name | AG2: Member # | AH2: Age Group | AI2: Price
A23: Total # of Participants | B23: =COUNTIF(B3:B22,"*") -> 0 | G23: Total # of Participants | H23: =COUNTIF(H3:H22,"*") -> 0 | M23: Total # of Participants | N23: =COUNTIF(N3:N22,"*") -> 0 | S23: Total # of Participants | T23: =COUNTIF(T3:T22,"*") -> 0 | Y23: Total # of Participants | Z23: =COUNTIF(Z3:Z22,"*") -> 0 | AE23: Total # of Participants | AF23: =COUNTIF(AF3:AF22,"*") -> 0
A25: February Adds | G25: April Adds | M25: June Adds | S25: August Adds | Y25: October Adds
A26: First Name | B26: Last Name | C26: Member # | D26: Age Group | E26: Price | G26: First Name | H26: Last Name | I26: Member # | J26: Age Group | K26: Price | M26: First Name | N26: Last Name | O26: Member # | P26: Age Group | Q26: Price | S26: First Name | T26: Last Name | U26: Member # | V26: Age Group | W26: Price | Y26: First Name | Z26: Last Name | AA26: Member # | AB26: Age Group | AC26: Price | AE26: December Adds
AE27: First Name | AF27: Last Name | AG27: Member # | AH27: Age Group | AI27: Price
A47: Total # of Participants | B47: =COUNTIF(B27:B46,"*") -> 0 | G47: Total # of Participants | H47: =COUNTIF(H27:H46,"*") -> 0 | M47: Total # of Participants | N47: =COUNTIF(N27:N46,"*") -> 0 | S47: Total # of Participants | T47: =COUNTIF(T27:T46,"*") -> 0 | Y47: Total # of Participants | Z47: =COUNTIF(Z27:Z46,"*") -> 0
AE48: Total # of Participants | AF48: =COUNTIF(AF28:AF47,"*") -> 0

Sheet Monthly Subs
A1: January Subs | F1: March Subs | K1: May Subs | P1: July Subs | U1: September Subs | Z1: November Subs
A2: First Name | B2: Last Name | C2: Member # | D2: Age Group | F2: First Name | G2: Last Name | H2: Member # | I2: Age Group | K2: First Name | L2: Last Name | M2: Member # | N2: Age Group | P2: First Name | Q2: Last Name | R2: Member # | S2: Age Group | U2: First Name | V2: Last Name | W2: Member # | X2: Age Group | Z2: First Name | AA2: Last Name | AB2: Member # | AC2: Age Group
A13: Total # of Participants | B13: =COUNTIF(B3:B12,"*") -> 0 | F13: Total # of Participants | G13: =COUNTIF(G3:G12,"*") -> 0 | K13: Total # of Participants | L13: =COUNTIF(L3:L12,"*") -> 0 | P13: Total # of Participants | Q13: =COUNTIF(Q3:Q12,"*") -> 0 | U13: Total # of Participants | V13: =COUNTIF(V3:V12,"*") -> 0 | Z13: Total # of Participants | AA13: =COUNTIF(AA3:AA12,"*") -> 0
A15: February Subs | F15: April Subs | K15: June Subs | P15: August Subs | U15: October Subs
A16: First Name | B16: Last Name | C16: Member # | D16: Age Group | F16: First Name | G16: Last Name | H16: Member # | I16: Age Group | K16: First Name | L16: Last Name | M16: Member # | N16: Age Group | P16: First Name | Q16: Last Name | R16: Member # | S16: Age Group | U16: First Name | V16: Last Name | W16: Member # | X16: Age Group | Z16: December Subs
Z17: First Name | AA17: Last Name | AB17: Member # | AC17: Age Group
A27: Total # of Participants | B27: =COUNTIF(B17:B26,"*") -> 0 | F27: Total # of Participants | G27: =COUNTIF(G17:G26,"*") -> 0 | K27: Total # of Participants | L27: =COUNTIF(L17:L26,"*") -> 0 | P27: Total # of Participants | Q27: =COUNTIF(Q17:Q26,"*") -> 0 | U27: Total # of Participants | V27: =COUNTIF(V17:V26,"*") -> 0
Z28: Total # of Participants | AA28: =COUNTIF(AA18:AA27,"*") -> 0

Sheet January
A1: CLUB NAME:
A2: Age Groups | C2: Class Day of Week | E2: Class Time | G2: Price | I2: # of Juniors | K2: Total Crush It Revenue | M2: # of Classes | O2: Payout per Class | P2: # of Instructors | Q2: Payout per Instructor | R2: Crush It Dept. Revenue | T2: Weeks Paid Out | U2: Live HA Balance | V2: Live Crush It Dept. Revenue
A5: 4-6yrs | G5: =G4 -> 0 | K5: =IF(G5,I5*G5,"") | O5: =IF(M5,K5/M5,0) -> 0 | Q5: =IF(P5,(O5/P5)*0.5,"") | R5: =IF(P5, (O5/2),"") | U5: =IF(ISNUMBER((K5-(O5*T5))),(K5-(O5*T5)),0) -> 0 | V5: =IF(T5,(R5*T5),"")
G6: =G4 -> 0 | K6: =IF(G6,I6*G6,"") | O6: =IF(M6,K6/M6,0) -> 0 | Q6: =IF(O6, (N6/2),"") | R6: =IF(P6, (O6/2),"") | U6: =IF(ISNUMBER((K6-(O6*T6))),(K6-(O6*T6)),0) -> 0 | V6: =IF(T6,(R6*T6),"")
G7: =G4 -> 0 | K7: =IF(G7,I7*G7,"") | O7: =IF(M7,K7/M7,0) -> 0 | Q7: =IF(O7, (N7/2),"") | R7: =IF(P7, (O7/2),"") | U7: =IF(ISNUMBER((K7-(O7*T7))),(K7-(O7*T7)),0) -> 0 | V7: =IF(T7,(R7*T7),"")
G8: =G4 -> 0 | K8: =IF(G8,I8*G8,"") | O8: =IF(M8,K8/M8,0) -> 0 | Q8: =IF(O8, (N8/2),"") | R8: =IF(P8, (O8/2),"") | U8: =IF(ISNUMBER((K8-(O8*T8))),(K8-(O8*T8)),0) -> 0 | V8: =IF(T8,(R8*T8),"")
G9: =G4 -> 0 | K9: =IF(G9,I9*G9,"") | O9: =IF(M9,K9/M9,0) -> 0 | Q9: =IF(O9, (N9/2),"") | R9: =IF(P9, (O9/2),"") | U9: =IF(ISNUMBER((K9-(O9*T9))),(K9-(O9*T9)),0) -> 0 | V9: =IF(T9,(R9*T9),"")
G10: =G4 -> 0 | K10: =IF(G10,I10*G10,"") | O10: =IF(M10,K10/M10,0) -> 0 | Q10: =IF(O10, (N10/2),"") | R10: =IF(P10, (O10/2),"") | U10: =IF(ISNUMBER((K10-(O10*T10))),(K10-(O10*T10)),0) -> 0 | V10: =IF(T10,(R10*T10),"")
R11: =IF(P11, (O11/2),"")
A12: 6-11yrs | G12: =G4 -> 0 | K12: =IF(G12,I12*G12,"") | O12: =IF(M12,K12/M12,0) -> 0 | Q12: =IF(O12, (N12/2),"") | R12: =IF(P12, (O12/2),"") | U12: =IF(ISNUMBER((K12-(O12*T12))),(K12-(O12*T12)),0) -> 0 | V12: =IF(T12,(R12*T12),"")
G13: =G4 -> 0 | K13: =IF(G13,I13*G13,"") | O13: =IF(M13,K13/M13,0) -> 0 | Q13: =IF(O13, (N13/2),"") | R13: =IF(P13, (O13/2),"") | U13: =IF(ISNUMBER((K13-(O13*T13))),(K13-(O13*T13)),0) -> 0 | V13: =IF(T13,(R13*T13),"")
G14: =G4 -> 0 | K14: =IF(G14,I14*G14,"") | O14: =IF(M14,K14/M14,0) -> 0 | Q14: =IF(O14, (N14/2),"") | R14: =IF(P14, (O14/2),"") | U14: =IF(ISNUMBER((K14-(O14*T14))),(K14-(O14*T14)),0) -> 0 | V14: =IF(T14,(R14*T14),"")
G15: =G4 -> 0 | K15: =IF(G15,I15*G15,"") | O15: =IF(M15,K15/M15,0) -> 0 | Q15: =IF(O15, (N15/2),"") | R15: =IF(P15, (O15/2),"") | U15: =IF(ISNUMBER((K15-(O15*T15))),(K15-(O15*T15)),0) -> 0 | V15: =IF(T15,(R15*T15),"")
G16: =G4 -> 0 | K16: =IF(G16,I16*G16,"") | O16: =IF(M16,K16/M16,0) -> 0 | Q16: =IF(O16, (N16/2),"") | R16: =IF(P16, (O16/2),"") | U16: =IF(ISNUMBER((K16-(O16*T16))),(K16-(O16*T16)),0) -> 0 | V16: =IF(T16,(R16*T16),"")
G17: =G4 -> 0 | K17: =IF(G17,I17*G17,"") | O17: =IF(M17,K17/M17,0) -> 0 | Q17: =IF(O17, (N17/2),"") | R17: =IF(P17, (O17/2),"") | U17: =IF(ISNUMBER((K17-(O17*T17))),(K17-(O17*T17)),0) -> 0 | V17: =IF(T17,(R17*T17),"")
R18: =IF(P18, (O18/2),"")
A19: 11-16yrs | G19: =G4 -> 0 | K19: =IF(G19,I19*G19,"") | O19: =IF(M19,K19/M19,0) -> 0 | Q19: =IF(O19, (N19/2),"") | R19: =IF(P19, (O19/2),"") | U19: =IF(ISNUMBER((K19-(O19*T19))),(K19-(O19*T19)),0) -> 0 | V19: =IF(T19,(R19*T19),"")
G20: =G4 -> 0 | K20: =IF(G20,I20*G20,"") | O20: =IF(M20,K20/M20,0) -> 0 | Q20: =IF(O20, (N20/2),"") | R20: =IF(P20, (O20/2),"") | U20: =IF(ISNUMBER((K20-(O20*T20))),(K20-(O20*T20)),0) -> 0 | V20: =IF(T20,(R20*T20),"")
G21: =G4 -> 0 | K21: =IF(G21,I21*G21,"") | O21: =IF(M21,K21/M21,0) -> 0 | Q21: =IF(O21, (N21/2),"") | R21: =IF(P21, (O21/2),"") | U21: =IF(ISNUMBER((K21-(O21*T21))),(K21-(O21*T21)),0) -> 0 | V21: =IF(T21,(R21*T21),"")
G22: =G4 -> 0 | K22: =IF(G22,I22*G22,"") | O22: =IF(M22,K22/M22,0) -> 0 | Q22: =IF(O22, (N22/2),"") | R22: =IF(P22, (O22/2),"") | U22: =IF(ISNUMBER((K22-(O22*T22))),(K22-(O22*T22)),0) -> 0 | V22: =IF(T22,(R22*T22),"")
G23: =G4 -> 0 | K23: =IF(G23,I23*G23,"") | O23: =IF(M23,K23/M23,0) -> 0 | Q23: =IF(O23, (N23/2),"") | R23: =IF(P23, (O23/2),"") | U23: =IF(ISNUMBER((K23-(O23*T23))),(K23-(O23*T23)),0) -> 0 | V23: =IF(T23,(R23*T23),"")
G24: =G4 -> 0 | K24: =IF(G24,I24*G24,"") | O24: =IF(M24,K24/M24,0) -> 0 | Q24: =IF(O24, (N24/2),"") | R24: =IF(P24, (O24/2),"") | U24: =IF(ISNUMBER((K24-(O24*T24))),(K24-(O24*T24)),0) -> 0 | V24: =IF(T24,(R24*T24),"")
A26: Total | G26: =G4 -> 0 | I26: =SUM(I5:I24) -> 0 | K26: =SUM(K5:K24) -> 0 | M26: =SUM(M5:M24) -> 0 | O26: =SUM(O5:O24) -> 0 | P26: =SUM(P5:P24) -> 0 | Q26: =SUM(Q5:Q24) -> 0 | R26: =SUM(R5:R24) -> 0 | U26: {=SUM(IF(ISERROR(U5:U24),"",U5:U24))} -> 0 | V26: =SUM(V5:V24) -> 0
I28: =(Registrations!B151+'Monthly Adds'!B23+'Monthly Adds'!B47+'Monthly Adds'!H23+'Monthly Adds'!H47+'Monthly Adds'!N23+'Monthly Adds'!N47+'Monthly Adds'!T23+'Monthly Adds'!T47+'Monthly Adds'!Z23+'Monthly Adds'!Z47+'Monthly Adds'!AF23+'Monthly Adds'!AF48-'Monthly Subs'!B13-'Monthly Subs'!B27-'Monthly Subs'!G13-'Monthly Subs'!G27-'Monthly Subs'!L13-'Monthly Subs'!L27-'Monthly Subs'!Q13-'Monthly Subs'!Q27-'Monthly Subs'!V13-'Monthly Subs'!V27-'Monthly Subs'!AA13-'Monthly Subs'!AA28) -> 0 | W28: Needs to equal 1/2 of "total crush it revenue"
T32: Needs to be $0 at end of month
E34: Total from "Starting Month Registrations Page" +/- "Adds & Subs"
G35: *needs to match class total

Sheet February
A1: CLUB NAME:
A2: Age Groups | C2: Class Day of Week | E2: Class Time | G2: Price | I2: # of Juniors | K2: Total Crush It Revenue | M2: # of Classes | O2: Payout per Class | P2: # of Instructors | Q2: Payout per Instructor | R2: Crush It Dept. Revenue | T2: Weeks Paid Out | U2: Live HA Balance | V2: Live Crush It Dept. Revenue
A5: 4-6yrs | G5: =G4 -> 0 | K5: =IF(G5,I5*G5,"") | O5: =IF(M5,K5/M5,"") | Q5: =IF(P5,(O5/P5)*0.5,"") | R5: =IF(P5, (O5/2),"") | U5: =IF(ISNUMBER((K5-(O5*T5))),(K5-(O5*T5)),0) -> 0 | V5: =IF(T5,(R5*T5),"")
G6: =G4 -> 0 | K6: =IF(G6,I6*G6,"") | O6: =IF(M6,K6/M6,"") | Q6: =IF(P6,(O6/P6)*0.5,"") | R6: =IF(P6, (O6/2),"") | U6: =IF(ISNUMBER((K6-(O6*T6))),(K6-(O6*T6)),0) -> 0 | V6: =IF(T6,(R6*T6),"")
G7: =G4 -> 0 | K7: =IF(G7,I7*G7,"") | O7: =IF(M7,K7/M7,"") | Q7: =IF(P7,(O7/P7)*0.5,"") | R7: =IF(P7, (O7/2),"") | U7: =IF(ISNUMBER((K7-(O7*T7))),(K7-(O7*T7)),0) -> 0 | V7: =IF(T7,(R7*T7),"")
G8: =G4 -> 0 | K8: =IF(G8,I8*G8,"") | O8: =IF(M8,K8/M8,"") | Q8: =IF(P8,(O8/P8)*0.5,"") | R8: =IF(P8, (O8/2),"") | U8: =IF(ISNUMBER((K8-(O8*T8))),(K8-(O8*T8)),0) -> 0 | V8: =IF(T8,(R8*T8),"")
G9: =G4 -> 0 | K9: =IF(G9,I9*G9,"") | O9: =IF(M9,K9/M9,"") | Q9: =IF(P9,(O9/P9)*0.5,"") | R9: =IF(P9, (O9/2),"") | U9: =IF(ISNUMBER((K9-(O9*T9))),(K9-(O9*T9)),0) -> 0 | V9: =IF(T9,(R9*T9),"")
G10: =G4 -> 0 | K10: =IF(G10,I10*G10,"") | O10: =IF(M10,K10/M10,"") | Q10: =IF(P10,(O10/P10)*0.5,"") | R10: =IF(P10, (O10/2),"") | U10: =IF(ISNUMBER((K10-(O10*T10))),(K10-(O10*T10)),0) -> 0 | V10: =IF(T10,(R10*T10),"")
R11: =IF(P11, (O11/2),"")
A12: 6-11yrs | G12: =G4 -> 0 | K12: =IF(G12,I12*G12,"") | O12: =IF(M12,K12/M12,"") | Q12: =IF(P12,(O12/P12)*0.5,"") | R12: =IF(P12, (O12/2),"") | U12: =IF(ISNUMBER((K12-(O12*T12))),(K12-(O12*T12)),0) -> 0 | V12: =IF(T12,(R12*T12),"")
G13: =G4 -> 0 | K13: =IF(G13,I13*G13,"") | O13: =IF(M13,K13/M13,"") | Q13: =IF(P13,(O13/P13)*0.5,"") | R13: =IF(P13, (O13/2),"") | U13: =IF(ISNUMBER((K13-(O13*T13))),(K13-(O13*T13)),0) -> 0 | V13: =IF(T13,(R13*T13),"")
G14: =G4 -> 0 | K14: =IF(G14,I14*G14,"") | O14: =IF(M14,K14/M14,"") | Q14: =IF(P14,(O14/P14)*0.5,"") | R14: =IF(P14, (O14/2),"") | U14: =IF(ISNUMBER((K14-(O14*T14))),(K14-(O14*T14)),0) -> 0 | V14: =IF(T14,(R14*T14),"")
G15: =G4 -> 0 | K15: =IF(G15,I15*G15,"") | O15: =IF(M15,K15/M15,"") | Q15: =IF(P15,(O15/P15)*0.5,"") | R15: =IF(P15, (O15/2),"") | U15: =IF(ISNUMBER((K15-(O15*T15))),(K15-(O15*T15)),0) -> 0 | V15: =IF(T15,(R15*T15),"")
G16: =G4 -> 0 | K16: =IF(G16,I16*G16,"") | O16: =IF(M16,K16/M16,"") | Q16: =IF(P16,(O16/P16)*0.5,"") | R16: =IF(P16, (O16/2),"") | U16: =IF(ISNUMBER((K16-(O16*T16))),(K16-(O16*T16)),0) -> 0 | V16: =IF(T16,(R16*T16),"")
G17: =G4 -> 0 | K17: =IF(G17,I17*G17,"") | O17: =IF(M17,K17/M17,"") | Q17: =IF(P17,(O17/P17)*0.5,"") | R17: =IF(P17, (O17/2),"") | U17: =IF(ISNUMBER((K17-(O17*T17))),(K17-(O17*T17)),0) -> 0 | V17: =IF(T17,(R17*T17),"")
R18: =IF(P18, (O18/2),"")
A19: 11-16yrs | G19: =G4 -> 0 | K19: =IF(G19,I19*G19,"") | O19: =IF(M19,K19/M19,"") | Q19: =IF(P19,(O19/P19)*0.5,"") | R19: =IF(P19, (O19/2),"") | U19: =IF(ISNUMBER((K19-(O19*T19))),(K19-(O19*T19)),0) -> 0 | V19: =IF(T19,(R19*T19),"")
G20: =G4 -> 0 | K20: =IF(G20,I20*G20,"") | O20: =IF(M20,K20/M20,"") | Q20: =IF(P20,(O20/P20)*0.5,"") | R20: =IF(P20, (O20/2),"") | U20: =IF(ISNUMBER((K20-(O20*T20))),(K20-(O20*T20)),0) -> 0 | V20: =IF(T20,(R20*T20),"")
G21: =G4 -> 0 | K21: =IF(G21,I21*G21,"") | O21: =IF(M21,K21/M21,"") | Q21: =IF(P21,(O21/P21)*0.5,"") | R21: =IF(P21, (O21/2),"") | U21: =IF(ISNUMBER((K21-(O21*T21))),(K21-(O21*T21)),0) -> 0 | V21: =IF(T21,(R21*T21),"")
G22: =G4 -> 0 | K22: =IF(G22,I22*G22,"") | O22: =IF(M22,K22/M22,"") | Q22: =IF(P22,(O22/P22)*0.5,"") | R22: =IF(P22, (O22/2),"") | U22: =IF(ISNUMBER((K22-(O22*T22))),(K22-(O22*T22)),0) -> 0 | V22: =IF(T22,(R22*T22),"")
G23: =G4 -> 0 | K23: =IF(G23,I23*G23,"") | O23: =IF(M23,K23/M23,"") | Q23: =IF(P23,(O23/P23)*0.5,"") | R23: =IF(P23, (O23/2),"") | U23: =IF(ISNUMBER((K23-(O23*T23))),(K23-(O23*T23)),0) -> 0 | V23: =IF(T23,(R23*T23),"")
G24: =G4 -> 0 | K24: =IF(G24,I24*G24,"") | O24: =IF(M24,K24/M24,"") | Q24: =IF(P24,(O24/P24)*0.5,"") | R24: =IF(P24, (O24/2),"") | U24: =IF(ISNUMBER((K24-(O24*T24))),(K24-(O24*T24)),0) -> 0 | V24: =IF(T24,(R24*T24),"")
A26: Total | G26: =G4 -> 0 | I26: =SUM(I5:I24) -> 0 | K26: =SUM(K5:K24) -> 0 | M26: =SUM(M5:M24) -> 0 | O26: =SUM(O5:O24) -> 0 | P26: =SUM(P5:P24) -> 0 | Q26: =SUM(Q5:Q24) -> 0 | R26: =SUM(R5:R24) -> 0 | U26: {=SUM(IF(ISERROR(U5:U24),"",U5:U24))} -> 0 | V26: =SUM(V5:V24) -> 0
I28: =(Registrations!B151+'Monthly Adds'!B23+'Monthly Adds'!B47+'Monthly Adds'!H23+'Monthly Adds'!H47+'Monthly Adds'!N23+'Monthly Adds'!N47+'Monthly Adds'!T23+'Monthly Adds'!T47+'Monthly Adds'!Z23+'Monthly Adds'!Z47+'Monthly Adds'!AF23+'Monthly Adds'!AF48-'Monthly Subs'!B13-'Monthly Subs'!B27-'Monthly Subs'!G13-'Monthly Subs'!G27-'Monthly Subs'!L13-'Monthly Subs'!L27-'Monthly Subs'!Q13-'Monthly Subs'!Q27-'Monthly Subs'!V13-'Monthly Subs'!V27-'Monthly Subs'!AA13-'Monthly Subs'!AA28) -> 0 | W28: Needs to equal 1/2 of "total crush it revenue"
T32: Needs to be $0 at end of month
E34: Total from "Starting Month Registrations Page" +/- "Adds & Subs"
G35: *needs to match class total

Sheet March
A1: CLUB NAME:
A2: Age Groups | C2: Class Day of Week | E2: Class Time | G2: Price | I2: # of Juniors | K2: Total Crush It Revenue | M2: # of Classes | O2: Payout per Class | P2: # of Instructors | Q2: Payout per Instructor | R2: Crush It Dept. Revenue | T2: Weeks Paid Out | U2: Live HA Balance | V2: Live Crush It Dept. Revenue
A5: 4-6yrs | G5: =G4 -> 0 | K5: =IF(G5,I5*G5,"") | O5: =IF(M5,K5/M5,"") | Q5: =IF(P5,(O5/P5)*0.5,"") | R5: =IF(P5, (O5/2),"") | U5: =IF(ISNUMBER((K5-(O5*T5))),(K5-(O5*T5)),0) -> 0 | V5: =IF(T5,(R5*T5),"")
G6: =G4 -> 0 | K6: =IF(G6,I6*G6,"") | O6: =IF(M6,K6/M6,"") | Q6: =IF(P6,(O6/P6)*0.5,"") | R6: =IF(P6, (O6/2),"") | U6: =IF(ISNUMBER((K6-(O6*T6))),(K6-(O6*T6)),0) -> 0 | V6: =IF(T6,(R6*T6),"")
G7: =G4 -> 0 | K7: =IF(G7,I7*G7,"") | O7: =IF(M7,K7/M7,"") | Q7: =IF(P7,(O7/P7)*0.5,"") | R7: =IF(P7, (O7/2),"") | U7: =IF(ISNUMBER((K7-(O7*T7))),(K7-(O7*T7)),0) -> 0 | V7: =IF(T7,(R7*T7),"")
G8: =G4 -> 0 | K8: =IF(G8,I8*G8,"") | O8: =IF(M8,K8/M8,"") | Q8: =IF(P8,(O8/P8)*0.5,"") | R8: =IF(P8, (O8/2),"") | U8: =IF(ISNUMBER((K8-(O8*T8))),(K8-(O8*T8)),0) -> 0 | V8: =IF(T8,(R8*T8),"")
G9: =G4 -> 0 | K9: =IF(G9,I9*G9,"") | O9: =IF(M9,K9/M9,"") | Q9: =IF(P9,(O9/P9)*0.5,"") | R9: =IF(P9, (O9/2),"") | U9: =IF(ISNUMBER((K9-(O9*T9))),(K9-(O9*T9)),0) -> 0 | V9: =IF(T9,(R9*T9),"")
G10: =G4 -> 0 | K10: =IF(G10,I10*G10,"") | O10: =IF(M10,K10/M10,"") | Q10: =IF(P10,(O10/P10)*0.5,"") | R10: =IF(P10, (O10/2),"") | U10: =IF(ISNUMBER((K10-(O10*T10))),(K10-(O10*T10)),0) -> 0 | V10: =IF(T10,(R10*T10),"")
R11: =IF(P11, (O11/2),"")
A12: 6-11yrs | G12: =G4 -> 0 | K12: =IF(G12,I12*G12,"") | O12: =IF(M12,K12/M12,"") | Q12: =IF(P12,(O12/P12)*0.5,"") | R12: =IF(P12, (O12/2),"") | U12: =IF(ISNUMBER((K12-(O12*T12))),(K12-(O12*T12)),0) -> 0 | V12: =IF(T12,(R12*T12),"")
G13: =G4 -> 0 | K13: =IF(G13,I13*G13,"") | O13: =IF(M13,K13/M13,"") | Q13: =IF(P13,(O13/P13)*0.5,"") | R13: =IF(P13, (O13/2),"") | U13: =IF(ISNUMBER((K13-(O13*T13))),(K13-(O13*T13)),0) -> 0 | V13: =IF(T13,(R13*T13),"")
G14: =G4 -> 0 | K14: =IF(G14,I14*G14,"") | O14: =IF(M14,K14/M14,"") | Q14: =IF(P14,(O14/P14)*0.5,"") | R14: =IF(P14, (O14/2),"") | U14: =IF(ISNUMBER((K14-(O14*T14))),(K14-(O14*T14)),0) -> 0 | V14: =IF(T14,(R14*T14),"")
G15: =G4 -> 0 | K15: =IF(G15,I15*G15,"") | O15: =IF(M15,K15/M15,"") | Q15: =IF(P15,(O15/P15)*0.5,"") | R15: =IF(P15, (O15/2),"") | U15: =IF(ISNUMBER((K15-(O15*T15))),(K15-(O15*T15)),0) -> 0 | V15: =IF(T15,(R15*T15),"")
G16: =G4 -> 0 | K16: =IF(G16,I16*G16,"") | O16: =IF(M16,K16/M16,"") | Q16: =IF(P16,(O16/P16)*0.5,"") | R16: =IF(P16, (O16/2),"") | U16: =IF(ISNUMBER((K16-(O16*T16))),(K16-(O16*T16)),0) -> 0 | V16: =IF(T16,(R16*T16),"")
G17: =G4 -> 0 | K17: =IF(G17,I17*G17,"") | O17: =IF(M17,K17/M17,"") | Q17: =IF(P17,(O17/P17)*0.5,"") | R17: =IF(P17, (O17/2),"") | U17: =IF(ISNUMBER((K17-(O17*T17))),(K17-(O17*T17)),0) -> 0 | V17: =IF(T17,(R17*T17),"")
R18: =IF(P18, (O18/2),"")
A19: 11-16yrs | G19: =G4 -> 0 | K19: =IF(G19,I19*G19,"") | O19: =IF(M19,K19/M19,"") | Q19: =IF(P19,(O19/P19)*0.5,"") | R19: =IF(P19, (O19/2),"") | U19: =IF(ISNUMBER((K19-(O19*T19))),(K19-(O19*T19)),0) -> 0 | V19: =IF(T19,(R19*T19),"")
G20: =G4 -> 0 | K20: =IF(G20,I20*G20,"") | O20: =IF(M20,K20/M20,"") | Q20: =IF(P20,(O20/P20)*0.5,"") | R20: =IF(P20, (O20/2),"") | U20: =IF(ISNUMBER((K20-(O20*T20))),(K20-(O20*T20)),0) -> 0 | V20: =IF(T20,(R20*T20),"")
G21: =G4 -> 0 | K21: =IF(G21,I21*G21,"") | O21: =IF(M21,K21/M21,"") | Q21: =IF(P21,(O21/P21)*0.5,"") | R21: =IF(P21, (O21/2),"") | U21: =IF(ISNUMBER((K21-(O21*T21))),(K21-(O21*T21)),0) -> 0 | V21: =IF(T21,(R21*T21),"")
G22: =G4 -> 0 | K22: =IF(G22,I22*G22,"") | O22: =IF(M22,K22/M22,"") | Q22: =IF(P22,(O22/P22)*0.5,"") | R22: =IF(P22, (O22/2),"") | U22: =IF(ISNUMBER((K22-(O22*T22))),(K22-(O22*T22)),0) -> 0 | V22: =IF(T22,(R22*T22),"")
G23: =G4 -> 0 | K23: =IF(G23,I23*G23,"") | O23: =IF(M23,K23/M23,"") | Q23: =IF(P23,(O23/P23)*0.5,"") | R23: =IF(P23, (O23/2),"") | U23: =IF(ISNUMBER((K23-(O23*T23))),(K23-(O23*T23)),0) -> 0 | V23: =IF(T23,(R23*T23),"")
G24: =G4 -> 0 | K24: =IF(G24,I24*G24,"") | O24: =IF(M24,K24/M24,"") | Q24: =IF(P24,(O24/P24)*0.5,"") | R24: =IF(P24, (O24/2),"") | U24: =IF(ISNUMBER((K24-(O24*T24))),(K24-(O24*T24)),0) -> 0 | V24: =IF(T24,(R24*T24),"")
A26: Total | G26: =G4 -> 0 | I26: =SUM(I5:I24) -> 0 | K26: =SUM(K5:K24) -> 0 | M26: =SUM(M5:M24) -> 0 | O26: =SUM(O5:O24) -> 0 | P26: =SUM(P5:P24) -> 0 | Q26: =SUM(Q5:Q24) -> 0 | R26: =SUM(R5:R24) -> 0 | U26: {=SUM(IF(ISERROR(U5:U24),"",U5:U24))} -> 0 | V26: =SUM(V5:V24) -> 0
I28: =(Registrations!B151+'Monthly Adds'!B23+'Monthly Adds'!B47+'Monthly Adds'!H23+'Monthly Adds'!H47+'Monthly Adds'!N23+'Monthly Adds'!N47+'Monthly Adds'!T23+'Monthly Adds'!T47+'Monthly Adds'!Z23+'Monthly Adds'!Z47+'Monthly Adds'!AF23+'Monthly Adds'!AF48-'Monthly Subs'!B13-'Monthly Subs'!B27-'Monthly Subs'!G13-'Monthly Subs'!G27-'Monthly Subs'!L13-'Monthly Subs'!L27-'Monthly Subs'!Q13-'Monthly Subs'!Q27-'Monthly Subs'!V13-'Monthly Subs'!V27-'Monthly Subs'!AA13-'Monthly Subs'!AA28) -> 0 | W28: Needs to equal 1/2 of "total crush it revenue"
T32: Needs to be $0 at end of month
E34: Total from "Starting Month Registrations Page" +/- "Adds & Subs"
G35: *needs to match class total

Sheet April
A1: CLUB NAME:
A2: Age Groups | C2: Class Day of Week | E2: Class Time | G2: Price | I2: # of Juniors | K2: Total Crush It Revenue | M2: # of Classes | O2: Payout per Class | P2: # of Instructors | Q2: Payout per Instructor | R2: Crush It Dept. Revenue | T2: Weeks Paid Out | U2: Live HA Balance | V2: Live Crush It Dept. Revenue
A5: 4-6yrs | G5: =G4 -> 0 | K5: =IF(G5,I5*G5,"") | O5: =IF(M5,K5/M5,"") | Q5: =IF(P5,(O5/P5)*0.5,"") | R5: =IF(P5, (O5/2),"") | U5: =IF(ISNUMBER((K5-(O5*T5))),(K5-(O5*T5)),0) -> 0 | V5: =IF(T5,(R5*T5),"")
G6: =G4 -> 0 | K6: =IF(G6,I6*G6,"") | O6: =IF(M6,K6/M6,"") | Q6: =IF(P6,(O6/P6)*0.5,"") | R6: =IF(P6, (O6/2),"") | U6: =IF(ISNUMBER((K6-(O6*T6))),(K6-(O6*T6)),0) -> 0 | V6: =IF(T6,(R6*T6),"")
G7: =G4 -> 0 | K7: =IF(G7,I7*G7,"") | O7: =IF(M7,K7/M7,"") | Q7: =IF(P7,(O7/P7)*0.5,"") | R7: =IF(P7, (O7/2),"") | U7: =IF(ISNUMBER((K7-(O7*T7))),(K7-(O7*T7)),0) -> 0 | V7: =IF(T7,(R7*T7),"")
G8: =G4 -> 0 | K8: =IF(G8,I8*G8,"") | O8: =IF(M8,K8/M8,"") | Q8: =IF(P8,(O8/P8)*0.5,"") | R8: =IF(P8, (O8/2),"") | U8: =IF(ISNUMBER((K8-(O8*T8))),(K8-(O8*T8)),0) -> 0 | V8: =IF(T8,(R8*T8),"")
G9: =G4 -> 0 | K9: =IF(G9,I9*G9,"") | O9: =IF(M9,K9/M9,"") | Q9: =IF(P9,(O9/P9)*0.5,"") | R9: =IF(P9, (O9/2),"") | U9: =IF(ISNUMBER((K9-(O9*T9))),(K9-(O9*T9)),0) -> 0 | V9: =IF(T9,(R9*T9),"")
G10: =G4 -> 0 | K10: =IF(G10,I10*G10,"") | O10: =IF(M10,K10/M10,"") | Q10: =IF(P10,(O10/P10)*0.5,"") | R10: =IF(P10, (O10/2),"") | U10: =IF(ISNUMBER((K10-(O10*T10))),(K10-(O10*T10)),0) -> 0 | V10: =IF(T10,(R10*T10),"")
R11: =IF(P11, (O11/2),"")
A12: 6-11yrs | G12: =G4 -> 0 | K12: =IF(G12,I12*G12,"") | O12: =IF(M12,K12/M12,"") | Q12: =IF(P12,(O12/P12)*0.5,"") | R12: =IF(P12, (O12/2),"") | U12: =IF(ISNUMBER((K12-(O12*T12))),(K12-(O12*T12)),0) -> 0 | V12: =IF(T12,(R12*T12),"")
G13: =G4 -> 0 | K13: =IF(G13,I13*G13,"") | O13: =IF(M13,K13/M13,"") | Q13: =IF(P13,(O13/P13)*0.5,"") | R13: =IF(P13, (O13/2),"") | U13: =IF(ISNUMBER((K13-(O13*T13))),(K13-(O13*T13)),0) -> 0 | V13: =IF(T13,(R13*T13),"")
G14: =G4 -> 0 | K14: =IF(G14,I14*G14,"") | O14: =IF(M14,K14/M14,"") | Q14: =IF(P14,(O14/P14)*0.5,"") | R14: =IF(P14, (O14/2),"") | U14: =IF(ISNUMBER((K14-(O14*T14))),(K14-(O14*T14)),0) -> 0 | V14: =IF(T14,(R14*T14),"")
G15: =G4 -> 0 | K15: =IF(G15,I15*G15,"") | O15: =IF(M15,K15/M15,"") | Q15: =IF(P15,(O15/P15)*0.5,"") | R15: =IF(P15, (O15/2),"") | U15: =IF(ISNUMBER((K15-(O15*T15))),(K15-(O15*T15)),0) -> 0 | V15: =IF(T15,(R15*T15),"")
G16: =G4 -> 0 | K16: =IF(G16,I16*G16,"") | O16: =IF(M16,K16/M16,"") | Q16: =IF(P16,(O16/P16)*0.5,"") | R16: =IF(P16, (O16/2),"") | U16: =IF(ISNUMBER((K16-(O16*T16))),(K16-(O16*T16)),0) -> 0 | V16: =IF(T16,(R16*T16),"")
G17: =G4 -> 0 | K17: =IF(G17,I17*G17,"") | O17: =IF(M17,K17/M17,"") | Q17: =IF(P17,(O17/P17)*0.5,"") | R17: =IF(P17, (O17/2),"") | U17: =IF(ISNUMBER((K17-(O17*T17))),(K17-(O17*T17)),0) -> 0 | V17: =IF(T17,(R17*T17),"")
R18: =IF(P18, (O18/2),"")
A19: 11-16yrs | G19: =G4 -> 0 | K19: =IF(G19,I19*G19,"") | O19: =IF(M19,K19/M19,"") | Q19: =IF(P19,(O19/P19)*0.5,"") | R19: =IF(P19, (O19/2),"") | U19: =IF(ISNUMBER((K19-(O19*T19))),(K19-(O19*T19)),0) -> 0 | V19: =IF(T19,(R19*T19),"")
G20: =G4 -> 0 | K20: =IF(G20,I20*G20,"") | O20: =IF(M20,K20/M20,"") | Q20: =IF(P20,(O20/P20)*0.5,"") | R20: =IF(P20, (O20/2),"") | U20: =IF(ISNUMBER((K20-(O20*T20))),(K20-(O20*T20)),0) -> 0 | V20: =IF(T20,(R20*T20),"")
G21: =G4 -> 0 | K21: =IF(G21,I21*G21,"") | O21: =IF(M21,K21/M21,"") | Q21: =IF(P21,(O21/P21)*0.5,"") | R21: =IF(P21, (O21/2),"") | U21: =IF(ISNUMBER((K21-(O21*T21))),(K21-(O21*T21)),0) -> 0 | V21: =IF(T21,(R21*T21),"")
G22: =G4 -> 0 | K22: =IF(G22,I22*G22,"") | O22: =IF(M22,K22/M22,"") | Q22: =IF(P22,(O22/P22)*0.5,"") | R22: =IF(P22, (O22/2),"") | U22: =IF(ISNUMBER((K22-(O22*T22))),(K22-(O22*T22)),0) -> 0 | V22: =IF(T22,(R22*T22),"")
G23: =G4 -> 0 | K23: =IF(G23,I23*G23,"") | O23: =IF(M23,K23/M23,"") | Q23: =IF(P23,(O23/P23)*0.5,"") | R23: =IF(P23, (O23/2),"") | U23: =IF(ISNUMBER((K23-(O23*T23))),(K23-(O23*T23)),0) -> 0 | V23: =IF(T23,(R23*T23),"")
G24: =G4 -> 0 | K24: =IF(G24,I24*G24,"") | O24: =IF(M24,K24/M24,"") | Q24: =IF(P24,(O24/P24)*0.5,"") | R24: =IF(P24, (O24/2),"") | U24: =IF(ISNUMBER((K24-(O24*T24))),(K24-(O24*T24)),0) -> 0 | V24: =IF(T24,(R24*T24),"")
A26: Total | G26: =G4 -> 0 | I26: =SUM(I5:I24) -> 0 | K26: =SUM(K5:K24) -> 0 | M26: =SUM(M5:M24) -> 0 | O26: =SUM(O5:O24) -> 0 | P26: =SUM(P5:P24) -> 0 | Q26: =SUM(Q5:Q24) -> 0 | R26: =SUM(R5:R24) -> 0 | U26: =SUM(U5:U24) -> 0 | V26: =SUM(V5:V24) -> 0
I28: =IF(ISNUMBER((#REF!-(C28*H28))),(#REF!-(C28*H28)),0) -> 0 | W28: Needs to equal 1/2 of "total crush it revenue"
T32: Needs to be $0 at end of month
E34: Total from "Starting Month Registrations Page" +/- "Adds & Subs"
G35: *needs to match class total

Sheet May
A1: CLUB NAME:
A2: Age Groups | C2: Class Day of Week | E2: Class Time | G2: Price | I2: # of Juniors | K2: Total Crush It Revenue | M2: # of Classes | O2: Payout per Class | P2: # of Instructors | Q2: Payout per Instructor | R2: Crush It Dept. Revenue | T2: Weeks Paid Out | U2: Live HA Balance | V2: Live Crush It Dept. Revenue
A5: 4-6yrs | G5: =G4 -> 0 | K5: =IF(G5,I5*G5,"") | O5: =IF(M5,K5/M5,"") | Q5: =IF(P5,(O5/P5)*0.5,"") | R5: =IF(P5, (O5/2),"") | U5: =IF(ISNUMBER((K5-(O5*T5))),(K5-(O5*T5)),0) -> 0 | V5: =IF(T5,(R5*T5),"")
G6: =G4 -> 0 | K6: =IF(G6,I6*G6,"") | O6: =IF(M6,K6/M6,"") | Q6: =IF(P6,(O6/P6)*0.5,"") | R6: =IF(P6, (O6/2),"") | U6: =IF(ISNUMBER((K6-(O6*T6))),(K6-(O6*T6)),0) -> 0 | V6: =IF(T6,(R6*T6),"")
G7: =G4 -> 0 | K7: =IF(G7,I7*G7,"") | O7: =IF(M7,K7/M7,"") | Q7: =IF(P7,(O7/P7)*0.5,"") | R7: =IF(P7, (O7/2),"") | U7: =IF(ISNUMBER((K7-(O7*T7))),(K7-(O7*T7)),0) -> 0 | V7: =IF(T7,(R7*T7),"")
G8: =G4 -> 0 | K8: =IF(G8,I8*G8,"") | O8: =IF(M8,K8/M8,"") | Q8: =IF(P8,(O8/P8)*0.5,"") | R8: =IF(P8, (O8/2),"") | U8: =IF(ISNUMBER((K8-(O8*T8))),(K8-(O8*T8)),0) -> 0 | V8: =IF(T8,(R8*T8),"")
G9: =G4 -> 0 | K9: =IF(G9,I9*G9,"") | O9: =IF(M9,K9/M9,"") | Q9: =IF(P9,(O9/P9)*0.5,"") | R9: =IF(P9, (O9/2),"") | U9: =IF(ISNUMBER((K9-(O9*T9))),(K9-(O9*T9)),0) -> 0 | V9: =IF(T9,(R9*T9),"")
G10: =G4 -> 0 | K10: =IF(G10,I10*G10,"") | O10: =IF(M10,K10/M10,"") | Q10: =IF(P10,(O10/P10)*0.5,"") | R10: =IF(P10, (O10/2),"") | U10: =IF(ISNUMBER((K10-(O10*T10))),(K10-(O10*T10)),0) -> 0 | V10: =IF(T10,(R10*T10),"")
R11: =IF(P11, (O11/2),"")
A12: 6-11yrs | G12: =G4 -> 0 | K12: =IF(G12,I12*G12,"") | O12: =IF(M12,K12/M12,"") | Q12: =IF(P12,(O12/P12)*0.5,"") | R12: =IF(P12, (O12/2),"") | U12: =IF(ISNUMBER((K12-(O12*T12))),(K12-(O12*T12)),0) -> 0 | V12: =IF(T12,(R12*T12),"")
G13: =G4 -> 0 | K13: =IF(G13,I13*G13,"") | O13: =IF(M13,K13/M13,"") | Q13: =IF(P13,(O13/P13)*0.5,"") | R13: =IF(P13, (O13/2),"") | U13: =IF(ISNUMBER((K13-(O13*T13))),(K13-(O13*T13)),0) -> 0 | V13: =IF(T13,(R13*T13),"")
G14: =G4 -> 0 | K14: =IF(G14,I14*G14,"") | O14: =IF(M14,K14/M14,"") | Q14: =IF(P14,(O14/P14)*0.5,"") | R14: =IF(P14, (O14/2),"") | U14: =IF(ISNUMBER((K14-(O14*T14))),(K14-(O14*T14)),0) -> 0 | V14: =IF(T14,(R14*T14),"")
G15: =G4 -> 0 | K15: =IF(G15,I15*G15,"") | O15: =IF(M15,K15/M15,"") | Q15: =IF(P15,(O15/P15)*0.5,"") | R15: =IF(P15, (O15/2),"") | U15: =IF(ISNUMBER((K15-(O15*T15))),(K15-(O15*T15)),0) -> 0 | V15: =IF(T15,(R15*T15),"")
G16: =G4 -> 0 | K16: =IF(G16,I16*G16,"") | O16: =IF(M16,K16/M16,"") | Q16: =IF(P16,(O16/P16)*0.5,"") | R16: =IF(P16, (O16/2),"") | U16: =IF(ISNUMBER((K16-(O16*T16))),(K16-(O16*T16)),0) -> 0 | V16: =IF(T16,(R16*T16),"")
G17: =G4 -> 0 | K17: =IF(G17,I17*G17,"") | O17: =IF(M17,K17/M17,"") | Q17: =IF(P17,(O17/P17)*0.5,"") | R17: =IF(P17, (O17/2),"") | U17: =IF(ISNUMBER((K17-(O17*T17))),(K17-(O17*T17)),0) -> 0 | V17: =IF(T17,(R17*T17),"")
R18: =IF(P18, (O18/2),"")
A19: 11-16yrs | G19: =G4 -> 0 | K19: =IF(G19,I19*G19,"") | O19: =IF(M19,K19/M19,"") | Q19: =IF(P19,(O19/P19)*0.5,"") | R19: =IF(P19, (O19/2),"") | U19: =IF(ISNUMBER((K19-(O19*T19))),(K19-(O19*T19)),0) -> 0 | V19: =IF(T19,(R19*T19),"")
G20: =G4 -> 0 | K20: =IF(G20,I20*G20,"") | O20: =IF(M20,K20/M20,"") | Q20: =IF(P20,(O20/P20)*0.5,"") | R20: =IF(P20, (O20/2),"") | U20: =IF(ISNUMBER((K20-(O20*T20))),(K20-(O20*T20)),0) -> 0 | V20: =IF(T20,(R20*T20),"")
G21: =G4 -> 0 | K21: =IF(G21,I21*G21,"") | O21: =IF(M21,K21/M21,"") | Q21: =IF(P21,(O21/P21)*0.5,"") | R21: =IF(P21, (O21/2),"") | U21: =IF(ISNUMBER((K21-(O21*T21))),(K21-(O21*T21)),0) -> 0 | V21: =IF(T21,(R21*T21),"")
G22: =G4 -> 0 | K22: =IF(G22,I22*G22,"") | O22: =IF(M22,K22/M22,"") | Q22: =IF(P22,(O22/P22)*0.5,"") | R22: =IF(P22, (O22/2),"") | U22: =IF(ISNUMBER((K22-(O22*T22))),(K22-(O22*T22)),0) -> 0 | V22: =IF(T22,(R22*T22),"")
G23: =G4 -> 0 | K23: =IF(G23,I23*G23,"") | O23: =IF(M23,K23/M23,"") | Q23: =IF(P23,(O23/P23)*0.5,"") | R23: =IF(P23, (O23/2),"") | U23: =IF(ISNUMBER((K23-(O23*T23))),(K23-(O23*T23)),0) -> 0 | V23: =IF(T23,(R23*T23),"")
G24: =G4 -> 0 | K24: =IF(G24,I24*G24,"") | O24: =IF(M24,K24/M24,"") | Q24: =IF(P24,(O24/P24)*0.5,"") | R24: =IF(P24, (O24/2),"") | U24: =IF(ISNUMBER((K24-(O24*T24))),(K24-(O24*T24)),0) -> 0 | V24: =IF(T24,(R24*T24),"")
A26: Total | G26: =G4 -> 0 | I26: =SUM(I5:I24) -> 0 | K26: =SUM(K5:K24) -> 0 | M26: =SUM(M5:M24) -> 0 | O26: =SUM(O5:O24) -> 0 | P26: =SUM(P5:P24) -> 0 | Q26: =SUM(Q5:Q24) -> 0 | R26: =SUM(R5:R24) -> 0 | U26: =SUM(U5:U24) -> 0 | V26: =SUM(V5:V24) -> 0
I28: =(Registrations!B151+'Monthly Adds'!B23+'Monthly Adds'!B47+'Monthly Adds'!H23+'Monthly Adds'!H47+'Monthly Adds'!N23+'Monthly Adds'!N47+'Monthly Adds'!T23+'Monthly Adds'!T47+'Monthly Adds'!Z23+'Monthly Adds'!Z47+'Monthly Adds'!AF23+'Monthly Adds'!AF48-'Monthly Subs'!B13-'Monthly Subs'!B27-'Monthly Subs'!G13-'Monthly Subs'!G27-'Monthly Subs'!L13-'Monthly Subs'!L27-'Monthly Subs'!Q13-'Monthly Subs'!Q27-'Monthly Subs'!V13-'Monthly Subs'!V27-'Monthly Subs'!AA13-'Monthly Subs'!AA28) -> 0 | W28: Needs to equal 1/2 of "total crush it revenue"
T32: Needs to be $0 at end of month
E34: Total from "Starting Month Registrations Page" +/- "Adds & Subs"
G35: *needs to match class total

Sheet June
A1: CLUB NAME:
A2: Age Groups | C2: Class Day of Week | E2: Class Time | G2: Price | I2: # of Juniors | K2: Total Crush It Revenue | M2: # of Classes | O2: Payout per Class | P2: # of Instructors | Q2: Payout per Instructor | R2: Crush It Dept. Revenue | T2: Weeks Paid Out | U2: Live HA Balance | V2: Live Crush It Dept. Revenue
A5: 4-6yrs | G5: =G4 -> 0 | K5: =IF(G5,I5*G5,"") | O5: =IF(M5,K5/M5,"") | Q5: =IF(P5,(O5/P5)*0.5,"") | R5: =IF(P5, (O5/2),"") | U5: =IF(ISNUMBER((K5-(O5*T5))),(K5-(O5*T5)),0) -> 0 | V5: =IF(T5,(R5*T5),"")
G6: =G4 -> 0 | K6: =IF(G6,I6*G6,"") | O6: =IF(M6,K6/M6,"") | Q6: =IF(P6,(O6/P6)*0.5,"") | R6: =IF(P6, (O6/2),"") | U6: =IF(ISNUMBER((K6-(O6*T6))),(K6-(O6*T6)),0) -> 0 | V6: =IF(T6,(R6*T6),"")
G7: =G4 -> 0 | K7: =IF(G7,I7*G7,"") | O7: =IF(M7,K7/M7,"") | Q7: =IF(P7,(O7/P7)*0.5,"") | R7: =IF(P7, (O7/2),"") | U7: =IF(ISNUMBER((K7-(O7*T7))),(K7-(O7*T7)),0) -> 0 | V7: =IF(T7,(R7*T7),"")
G8: =G4 -> 0 | K8: =IF(G8,I8*G8,"") | O8: =IF(M8,K8/M8,"") | Q8: =IF(P8,(O8/P8)*0.5,"") | R8: =IF(P8, (O8/2),"") | U8: =IF(ISNUMBER((K8-(O8*T8))),(K8-(O8*T8)),0) -> 0 | V8: =IF(T8,(R8*T8),"")
G9: =G4 -> 0 | K9: =IF(G9,I9*G9,"") | O9: =IF(M9,K9/M9,"") | Q9: =IF(P9,(O9/P9)*0.5,"") | R9: =IF(P9, (O9/2),"") | U9: =IF(ISNUMBER((K9-(O9*T9))),(K9-(O9*T9)),0) -> 0 | V9: =IF(T9,(R9*T9),"")
G10: =G4 -> 0 | K10: =IF(G10,I10*G10,"") | O10: =IF(M10,K10/M10,"") | Q10: =IF(P10,(O10/P10)*0.5,"") | R10: =IF(P10, (O10/2),"") | U10: =IF(ISNUMBER((K10-(O10*T10))),(K10-(O10*T10)),0) -> 0 | V10: =IF(T10,(R10*T10),"")
R11: =IF(P11, (O11/2),"")
A12: 6-11yrs | G12: =G4 -> 0 | K12: =IF(G12,I12*G12,"") | O12: =IF(M12,K12/M12,"") | Q12: =IF(P12,(O12/P12)*0.5,"") | R12: =IF(P12, (O12/2),"") | U12: =IF(ISNUMBER((K12-(O12*T12))),(K12-(O12*T12)),0) -> 0 | V12: =IF(T12,(R12*T12),"")
G13: =G4 -> 0 | K13: =IF(G13,I13*G13,"") | O13: =IF(M13,K13/M13,"") | Q13: =IF(P13,(O13/P13)*0.5,"") | R13: =IF(P13, (O13/2),"") | U13: =IF(ISNUMBER((K13-(O13*T13))),(K13-(O13*T13)),0) -> 0 | V13: =IF(T13,(R13*T13),"")
G14: =G4 -> 0 | K14: =IF(G14,I14*G14,"") | O14: =IF(M14,K14/M14,"") | Q14: =IF(P14,(O14/P14)*0.5,"") | R14: =IF(P14, (O14/2),"") | U14: =IF(ISNUMBER((K14-(O14*T14))),(K14-(O14*T14)),0) -> 0 | V14: =IF(T14,(R14*T14),"")
G15: =G4 -> 0 | K15: =IF(G15,I15*G15,"") | O15: =IF(M15,K15/M15,"") | Q15: =IF(P15,(O15/P15)*0.5,"") | R15: =IF(P15, (O15/2),"") | U15: =IF(ISNUMBER((K15-(O15*T15))),(K15-(O15*T15)),0) -> 0 | V15: =IF(T15,(R15*T15),"")
G16: =G4 -> 0 | K16: =IF(G16,I16*G16,"") | O16: =IF(M16,K16/M16,"") | Q16: =IF(P16,(O16/P16)*0.5,"") | R16: =IF(P16, (O16/2),"") | U16: =IF(ISNUMBER((K16-(O16*T16))),(K16-(O16*T16)),0) -> 0 | V16: =IF(T16,(R16*T16),"")
G17: =G4 -> 0 | K17: =IF(G17,I17*G17,"") | O17: =IF(M17,K17/M17,"") | Q17: =IF(P17,(O17/P17)*0.5,"") | R17: =IF(P17, (O17/2),"") | U17: =IF(ISNUMBER((K17-(O17*T17))),(K17-(O17*T17)),0) -> 0 | V17: =IF(T17,(R17*T17),"")
R18: =IF(P18, (O18/2),"")
A19: 11-16yrs | G19: =G4 -> 0 | K19: =IF(G19,I19*G19,"") | O19: =IF(M19,K19/M19,"") | Q19: =IF(P19,(O19/P19)*0.5,"") | R19: =IF(P19, (O19/2),"") | U19: =IF(ISNUMBER((K19-(O19*T19))),(K19-(O19*T19)),0) -> 0 | V19: =IF(T19,(R19*T19),"")
G20: =G4 -> 0 | K20: =IF(G20,I20*G20,"") | O20: =IF(M20,K20/M20,"") | Q20: =IF(P20,(O20/P20)*0.5,"") | R20: =IF(P20, (O20/2),"") | U20: =IF(ISNUMBER((K20-(O20*T20))),(K20-(O20*T20)),0) -> 0 | V20: =IF(T20,(R20*T20),"")
G21: =G4 -> 0 | K21: =IF(G21,I21*G21,"") | O21: =IF(M21,K21/M21,"") | Q21: =IF(P21,(O21/P21)*0.5,"") | R21: =IF(P21, (O21/2),"") | U21: =IF(ISNUMBER((K21-(O21*T21))),(K21-(O21*T21)),0) -> 0 | V21: =IF(T21,(R21*T21),"")
G22: =G4 -> 0 | K22: =IF(G22,I22*G22,"") | O22: =IF(M22,K22/M22,"") | Q22: =IF(P22,(O22/P22)*0.5,"") | R22: =IF(P22, (O22/2),"") | U22: =IF(ISNUMBER((K22-(O22*T22))),(K22-(O22*T22)),0) -> 0 | V22: =IF(T22,(R22*T22),"")
G23: =G4 -> 0 | K23: =IF(G23,I23*G23,"") | O23: =IF(M23,K23/M23,"") | Q23: =IF(P23,(O23/P23)*0.5,"") | R23: =IF(P23, (O23/2),"") | U23: =IF(ISNUMBER((K23-(O23*T23))),(K23-(O23*T23)),0) -> 0 | V23: =IF(T23,(R23*T23),"")
G24: =G4 -> 0 | K24: =IF(G24,I24*G24,"") | O24: =IF(M24,K24/M24,"") | Q24: =IF(P24,(O24/P24)*0.5,"") | R24: =IF(P24, (O24/2),"") | U24: =IF(ISNUMBER((K24-(O24*T24))),(K24-(O24*T24)),0) -> 0 | V24: =IF(T24,(R24*T24),"")
A26: Total | G26: =G4 -> 0 | I26: =SUM(I5:I24) -> 0 | K26: =SUM(K5:K24) -> 0 | M26: =SUM(M5:M24) -> 0 | O26: =SUM(O5:O24) -> 0 | P26: =SUM(P5:P24) -> 0 | Q26: =SUM(Q5:Q24) -> 0 | R26: =SUM(R5:R24) -> 0 | U26: =SUM(U5:U24) -> 0 | V26: =SUM(V5:V24) -> 0
I28: =IF(ISNUMBER((#REF!-(C28*H28))),(#REF!-(C28*H28)),0) -> 0 | W28: Needs to equal 1/2 of "total crush it revenue"
T32: Needs to be $0 at end of month
E34: Total from "Starting Month Registrations Page" +/- "Adds & Subs"
G35: *needs to match class total

Sheet July
A1: CLUB NAME:
A2: Age Groups | C2: Class Day of Week | E2: Class Time | G2: Price | I2: # of Juniors | K2: Total Crush It Revenue | M2: # of Classes | O2: Payout per Class | P2: # of Instructors | Q2: Payout per Instructor | R2: Crush It Dept. Revenue | T2: Weeks Paid Out | U2: Live HA Balance | V2: Live Crush It Dept. Revenue
A5: 4-6yrs | G5: =G4 -> 0 | K5: =IF(G5,I5*G5,"") | O5: =IF(M5,K5/M5,"") | Q5: =IF(P5,(O5/P5)*0.5,"") | R5: =IF(P5, (O5/2),"") | U5: =IF(ISNUMBER((K5-(O5*T5))),(K5-(O5*T5)),0) -> 0 | V5: =IF(T5,(R5*T5),"")
G6: =G4 -> 0 | K6: =IF(G6,I6*G6,"") | O6: =IF(M6,K6/M6,"") | Q6: =IF(P6,(O6/P6)*0.5,"") | R6: =IF(P6, (O6/2),"") | U6: =IF(ISNUMBER((K6-(O6*T6))),(K6-(O6*T6)),0) -> 0 | V6: =IF(T6,(R6*T6),"")
G7: =G4 -> 0 | K7: =IF(G7,I7*G7,"") | O7: =IF(M7,K7/M7,"") | Q7: =IF(P7,(O7/P7)*0.5,"") | R7: =IF(P7, (O7/2),"") | U7: =IF(ISNUMBER((K7-(O7*T7))),(K7-(O7*T7)),0) -> 0 | V7: =IF(T7,(R7*T7),"")
G8: =G4 -> 0 | K8: =IF(G8,I8*G8,"") | O8: =IF(M8,K8/M8,"") | Q8: =IF(P8,(O8/P8)*0.5,"") | R8: =IF(P8, (O8/2),"") | U8: =IF(ISNUMBER((K8-(O8*T8))),(K8-(O8*T8)),0) -> 0 | V8: =IF(T8,(R8*T8),"")
G9: =G4 -> 0 | K9: =IF(G9,I9*G9,"") | O9: =IF(M9,K9/M9,"") | Q9: =IF(P9,(O9/P9)*0.5,"") | R9: =IF(P9, (O9/2),"") | U9: =IF(ISNUMBER((K9-(O9*T9))),(K9-(O9*T9)),0) -> 0 | V9: =IF(T9,(R9*T9),"")
G10: =G4 -> 0 | K10: =IF(G10,I10*G10,"") | O10: =IF(M10,K10/M10,"") | Q10: =IF(P10,(O10/P10)*0.5,"") | R10: =IF(P10, (O10/2),"") | U10: =IF(ISNUMBER((K10-(O10*T10))),(K10-(O10*T10)),0) -> 0 | V10: =IF(T10,(R10*T10),"")
R11: =IF(P11, (O11/2),"")
A12: 6-11yrs | G12: =G4 -> 0 | K12: =IF(G12,I12*G12,"") | O12: =IF(M12,K12/M12,"") | Q12: =IF(P12,(O12/P12)*0.5,"") | R12: =IF(P12, (O12/2),"") | U12: =IF(ISNUMBER((K12-(O12*T12))),(K12-(O12*T12)),0) -> 0 | V12: =IF(T12,(R12*T12),"")
G13: =G4 -> 0 | K13: =IF(G13,I13*G13,"") | O13: =IF(M13,K13/M13,"") | Q13: =IF(P13,(O13/P13)*0.5,"") | R13: =IF(P13, (O13/2),"") | U13: =IF(ISNUMBER((K13-(O13*T13))),(K13-(O13*T13)),0) -> 0 | V13: =IF(T13,(R13*T13),"")
G14: =G4 -> 0 | K14: =IF(G14,I14*G14,"") | O14: =IF(M14,K14/M14,"") | Q14: =IF(P14,(O14/P14)*0.5,"") | R14: =IF(P14, (O14/2),"") | U14: =IF(ISNUMBER((K14-(O14*T14))),(K14-(O14*T14)),0) -> 0 | V14: =IF(T14,(R14*T14),"")
G15: =G4 -> 0 | K15: =IF(G15,I15*G15,"") | O15: =IF(M15,K15/M15,"") | Q15: =IF(P15,(O15/P15)*0.5,"") | R15: =IF(P15, (O15/2),"") | U15: =IF(ISNUMBER((K15-(O15*T15))),(K15-(O15*T15)),0) -> 0 | V15: =IF(T15,(R15*T15),"")
G16: =G4 -> 0 | K16: =IF(G16,I16*G16,"") | O16: =IF(M16,K16/M16,"") | Q16: =IF(P16,(O16/P16)*0.5,"") | R16: =IF(P16, (O16/2),"") | U16: =IF(ISNUMBER((K16-(O16*T16))),(K16-(O16*T16)),0) -> 0 | V16: =IF(T16,(R16*T16),"")
G17: =G4 -> 0 | K17: =IF(G17,I17*G17,"") | O17: =IF(M17,K17/M17,"") | Q17: =IF(P17,(O17/P17)*0.5,"") | R17: =IF(P17, (O17/2),"") | U17: =IF(ISNUMBER((K17-(O17*T17))),(K17-(O17*T17)),0) -> 0 | V17: =IF(T17,(R17*T17),"")
R18: =IF(P18, (O18/2),"")
A19: 11-16yrs | G19: =G4 -> 0 | K19: =IF(G19,I19*G19,"") | O19: =IF(M19,K19/M19,"") | Q19: =IF(P19,(O19/P19)*0.5,"") | R19: =IF(P19, (O19/2),"") | U19: =IF(ISNUMBER((K19-(O19*T19))),(K19-(O19*T19)),0) -> 0 | V19: =IF(T19,(R19*T19),"")
C20: 1 | G20: =G4 -> 0 | K20: =IF(G20,I20*G20,"") | O20: =IF(M20,K20/M20,"") | Q20: =IF(P20,(O20/P20)*0.5,"") | R20: =IF(P20, (O20/2),"") | U20: =IF(ISNUMBER((K20-(O20*T20))),(K20-(O20*T20)),0) -> 0 | V20: =IF(T20,(R20*T20),"")
G21: =G4 -> 0 | K21: =IF(G21,I21*G21,"") | O21: =IF(M21,K21/M21,"") | Q21: =IF(P21,(O21/P21)*0.5,"") | R21: =IF(P21, (O21/2),"") | U21: =IF(ISNUMBER((K21-(O21*T21))),(K21-(O21*T21)),0) -> 0 | V21: =IF(T21,(R21*T21),"")
G22: =G4 -> 0 | K22: =IF(G22,I22*G22,"") | O22: =IF(M22,K22/M22,"") | Q22: =IF(P22,(O22/P22)*0.5,"") | R22: =IF(P22, (O22/2),"") | U22: =IF(ISNUMBER((K22-(O22*T22))),(K22-(O22*T22)),0) -> 0 | V22: =IF(T22,(R22*T22),"")
G23: =G4 -> 0 | K23: =IF(G23,I23*G23,"") | O23: =IF(M23,K23/M23,"") | Q23: =IF(P23,(O23/P23)*0.5,"") | R23: =IF(P23, (O23/2),"") | U23: =IF(ISNUMBER((K23-(O23*T23))),(K23-(O23*T23)),0) -> 0 | V23: =IF(T23,(R23*T23),"")
G24: =G4 -> 0 | K24: =IF(G24,I24*G24,"") | O24: =IF(M24,K24/M24,"") | Q24: =IF(P24,(O24/P24)*0.5,"") | R24: =IF(P24, (O24/2),"") | U24: =IF(ISNUMBER((K24-(O24*T24))),(K24-(O24*T24)),0) -> 0 | V24: =IF(T24,(R24*T24),"")
A26: Total | G26: =G4 -> 0 | I26: =SUM(I5:I24) -> 0 | K26: =SUM(K5:K24) -> 0 | M26: =SUM(M5:M24) -> 0 | O26: =SUM(O5:O24) -> 0 | P26: =SUM(P5:P24) -> 0 | Q26: =SUM(Q5:Q24) -> 0 | R26: =SUM(R5:R24) -> 0 | U26: =SUM(U5:U24) -> 0 | V26: =SUM(V5:V24) -> 0
I28: =IF(ISNUMBER((#REF!-(C28*H28))),(#REF!-(C28*H28)),0) -> 0 | W28: Needs to equal 1/2 of "total crush it revenue"
T32: Needs to be $0 at end of month
E34: Total from "Starting Month Registrations Page" +/- "Adds & Subs"
G35: *needs to match class total

Sheet August
A1: CLUB NAME:
A2: Age Groups | C2: Class Day of Week | E2: Class Time | G2: Price | I2: # of Juniors | K2: Total Crush It Revenue | M2: # of Classes | O2: Payout per Class | P2: # of Instructors | Q2: Payout per Instructor | R2: Crush It Dept. Revenue | T2: Weeks Paid Out | U2: Live HA Balance | V2: Live Crush It Dept. Revenue
A5: 4-6yrs | G5: =G4 -> 0 | K5: =IF(G5,I5*G5,"") | O5: =IF(M5,K5/M5,"") | Q5: =IF(P5,(O5/P5)*0.5,"") | R5: =IF(P5, (O5/2),"") | U5: =IF(ISNUMBER((K5-(O5*T5))),(K5-(O5*T5)),0) -> 0 | V5: =IF(T5,(R5*T5),"")
G6: =G4 -> 0 | K6: =IF(G6,I6*G6,"") | O6: =IF(M6,K6/M6,"") | Q6: =IF(P6,(O6/P6)*0.5,"") | R6: =IF(P6, (O6/2),"") | U6: =IF(ISNUMBER((K6-(O6*T6))),(K6-(O6*T6)),0) -> 0 | V6: =IF(T6,(R6*T6),"")
G7: =G4 -> 0 | K7: =IF(G7,I7*G7,"") | O7: =IF(M7,K7/M7,"") | Q7: =IF(P7,(O7/P7)*0.5,"") | R7: =IF(P7, (O7/2),"") | U7: =IF(ISNUMBER((K7-(O7*T7))),(K7-(O7*T7)),0) -> 0 | V7: =IF(T7,(R7*T7),"")
G8: =G4 -> 0 | K8: =IF(G8,I8*G8,"") | O8: =IF(M8,K8/M8,"") | Q8: =IF(P8,(O8/P8)*0.5,"") | R8: =IF(P8, (O8/2),"") | U8: =IF(ISNUMBER((K8-(O8*T8))),(K8-(O8*T8)),0) -> 0 | V8: =IF(T8,(R8*T8),"")
G9: =G4 -> 0 | K9: =IF(G9,I9*G9,"") | O9: =IF(M9,K9/M9,"") | Q9: =IF(P9,(O9/P9)*0.5,"") | R9: =IF(P9, (O9/2),"") | U9: =IF(ISNUMBER((K9-(O9*T9))),(K9-(O9*T9)),0) -> 0 | V9: =IF(T9,(R9*T9),"")
G10: =G4 -> 0 | K10: =IF(G10,I10*G10,"") | O10: =IF(M10,K10/M10,"") | Q10: =IF(P10,(O10/P10)*0.5,"") | R10: =IF(P10, (O10/2),"") | U10: =IF(ISNUMBER((K10-(O10*T10))),(K10-(O10*T10)),0) -> 0 | V10: =IF(T10,(R10*T10),"")
R11: =IF(P11, (O11/2),"")
A12: 6-11yrs | G12: =G4 -> 0 | K12: =IF(G12,I12*G12,"") | O12: =IF(M12,K12/M12,"") | Q12: =IF(P12,(O12/P12)*0.5,"") | R12: =IF(P12, (O12/2),"") | U12: =IF(ISNUMBER((K12-(O12*T12))),(K12-(O12*T12)),0) -> 0 | V12: =IF(T12,(R12*T12),"")
G13: =G4 -> 0 | K13: =IF(G13,I13*G13,"") | O13: =IF(M13,K13/M13,"") | Q13: =IF(P13,(O13/P13)*0.5,"") | R13: =IF(P13, (O13/2),"") | U13: =IF(ISNUMBER((K13-(O13*T13))),(K13-(O13*T13)),0) -> 0 | V13: =IF(T13,(R13*T13),"")
G14: =G4 -> 0 | K14: =IF(G14,I14*G14,"") | O14: =IF(M14,K14/M14,"") | Q14: =IF(P14,(O14/P14)*0.5,"") | R14: =IF(P14, (O14/2),"") | U14: =IF(ISNUMBER((K14-(O14*T14))),(K14-(O14*T14)),0) -> 0 | V14: =IF(T14,(R14*T14),"")
G15: =G4 -> 0 | K15: =IF(G15,I15*G15,"") | O15: =IF(M15,K15/M15,"") | Q15: =IF(P15,(O15/P15)*0.5,"") | R15: =IF(P15, (O15/2),"") | U15: =IF(ISNUMBER((K15-(O15*T15))),(K15-(O15*T15)),0) -> 0 | V15: =IF(T15,(R15*T15),"")
G16: =G4 -> 0 | K16: =IF(G16,I16*G16,"") | O16: =IF(M16,K16/M16,"") | Q16: =IF(P16,(O16/P16)*0.5,"") | R16: =IF(P16, (O16/2),"") | U16: =IF(ISNUMBER((K16-(O16*T16))),(K16-(O16*T16)),0) -> 0 | V16: =IF(T16,(R16*T16),"")
G17: =G4 -> 0 | K17: =IF(G17,I17*G17,"") | O17: =IF(M17,K17/M17,"") | Q17: =IF(P17,(O17/P17)*0.5,"") | R17: =IF(P17, (O17/2),"") | U17: =IF(ISNUMBER((K17-(O17*T17))),(K17-(O17*T17)),0) -> 0 | V17: =IF(T17,(R17*T17),"")
R18: =IF(P18, (O18/2),"")
A19: 11-16yrs | G19: =G4 -> 0 | K19: =IF(G19,I19*G19,"") | O19: =IF(M19,K19/M19,"") | Q19: =IF(P19,(O19/P19)*0.5,"") | R19: =IF(P19, (O19/2),"") | U19: =IF(ISNUMBER((K19-(O19*T19))),(K19-(O19*T19)),0) -> 0 | V19: =IF(T19,(R19*T19),"")
G20: =G4 -> 0 | K20: =IF(G20,I20*G20,"") | O20: =IF(M20,K20/M20,"") | Q20: =IF(P20,(O20/P20)*0.5,"") | R20: =IF(P20, (O20/2),"") | U20: =IF(ISNUMBER((K20-(O20*T20))),(K20-(O20*T20)),0) -> 0 | V20: =IF(T20,(R20*T20),"")
G21: =G4 -> 0 | K21: =IF(G21,I21*G21,"") | O21: =IF(M21,K21/M21,"") | Q21: =IF(P21,(O21/P21)*0.5,"") | R21: =IF(P21, (O21/2),"") | U21: =IF(ISNUMBER((K21-(O21*T21))),(K21-(O21*T21)),0) -> 0 | V21: =IF(T21,(R21*T21),"")
G22: =G4 -> 0 | K22: =IF(G22,I22*G22,"") | O22: =IF(M22,K22/M22,"") | Q22: =IF(P22,(O22/P22)*0.5,"") | R22: =IF(P22, (O22/2),"") | U22: =IF(ISNUMBER((K22-(O22*T22))),(K22-(O22*T22)),0) -> 0 | V22: =IF(T22,(R22*T22),"")
G23: =G4 -> 0 | K23: =IF(G23,I23*G23,"") | O23: =IF(M23,K23/M23,"") | Q23: =IF(P23,(O23/P23)*0.5,"") | R23: =IF(P23, (O23/2),"") | U23: =IF(ISNUMBER((K23-(O23*T23))),(K23-(O23*T23)),0) -> 0 | V23: =IF(T23,(R23*T23),"")
G24: =G4 -> 0 | K24: =IF(G24,I24*G24,"") | O24: =IF(M24,K24/M24,"") | Q24: =IF(P24,(O24/P24)*0.5,"") | R24: =IF(P24, (O24/2),"") | U24: =IF(ISNUMBER((K24-(O24*T24))),(K24-(O24*T24)),0) -> 0 | V24: =IF(T24,(R24*T24),"")
A26: Total | G26: =G4 -> 0 | I26: =SUM(I5:I24) -> 0 | K26: =SUM(K5:K24) -> 0 | M26: =SUM(M5:M24) -> 0 | O26: =SUM(O5:O24) -> 0 | P26: =SUM(P5:P24) -> 0 | Q26: =SUM(Q5:Q24) -> 0 | R26: =SUM(R5:R24) -> 0 | U26: =SUM(U5:U24) -> 0 | V26: =SUM(V5:V24) -> 0
I28: =IF(ISNUMBER((#REF!-(C28*H28))),(#REF!-(C28*H28)),0) -> 0 | W28: Needs to equal 1/2 of "total crush it revenue"
T32: Needs to be $0 at end of month
E34: Total from "Starting Month Registrations Page" +/- "Adds & Subs"
G35: *needs to match class total

Sheet September
A1: CLUB NAME:
A2: Age Groups | C2: Class Day of Week | E2: Class Time | G2: Price | I2: # of Juniors | K2: Total Crush It Revenue | M2: # of Classes | O2: Payout per Class | P2: # of Instructors | Q2: Payout per Instructor | R2: Crush It Dept. Revenue | T2: Weeks Paid Out | U2: Live HA Balance | V2: Live Crush It Dept. Revenue
A5: 4-6yrs | G5: =G4 -> 0 | K5: =IF(G5,I5*G5,"") | O5: =IF(M5,K5/M5,"") | Q5: =IF(P5,(O5/P5)*0.5,"") | R5: =IF(P5, (O5/2),"") | U5: =IF(ISNUMBER((K5-(O5*T5))),(K5-(O5*T5)),0) -> 0 | V5: =IF(T5,(R5*T5),"")
G6: =G4 -> 0 | K6: =IF(G6,I6*G6,"") | O6: =IF(M6,K6/M6,"") | Q6: =IF(P6,(O6/P6)*0.5,"") | R6: =IF(P6, (O6/2),"") | U6: =IF(ISNUMBER((K6-(O6*T6))),(K6-(O6*T6)),0) -> 0 | V6: =IF(T6,(R6*T6),"")
G7: =G4 -> 0 | K7: =IF(G7,I7*G7,"") | O7: =IF(M7,K7/M7,"") | Q7: =IF(P7,(O7/P7)*0.5,"") | R7: =IF(P7, (O7/2),"") | U7: =IF(ISNUMBER((K7-(O7*T7))),(K7-(O7*T7)),0) -> 0 | V7: =IF(T7,(R7*T7),"")
G8: =G4 -> 0 | K8: =IF(G8,I8*G8,"") | O8: =IF(M8,K8/M8,"") | Q8: =IF(P8,(O8/P8)*0.5,"") | R8: =IF(P8, (O8/2),"") | U8: =IF(ISNUMBER((K8-(O8*T8))),(K8-(O8*T8)),0) -> 0 | V8: =IF(T8,(R8*T8),"")
G9: =G4 -> 0 | K9: =IF(G9,I9*G9,"") | O9: =IF(M9,K9/M9,"") | Q9: =IF(P9,(O9/P9)*0.5,"") | R9: =IF(P9, (O9/2),"") | U9: =IF(ISNUMBER((K9-(O9*T9))),(K9-(O9*T9)),0) -> 0 | V9: =IF(T9,(R9*T9),"")
G10: =G4 -> 0 | K10: =IF(G10,I10*G10,"") | O10: =IF(M10,K10/M10,"") | Q10: =IF(P10,(O10/P10)*0.5,"") | R10: =IF(P10, (O10/2),"") | U10: =IF(ISNUMBER((K10-(O10*T10))),(K10-(O10*T10)),0) -> 0 | V10: =IF(T10,(R10*T10),"")
R11: =IF(P11, (O11/2),"")
A12: 6-11yrs | G12: =G4 -> 0 | K12: =IF(G12,I12*G12,"") | O12: =IF(M12,K12/M12,"") | Q12: =IF(P12,(O12/P12)*0.5,"") | R12: =IF(P12, (O12/2),"") | U12: =IF(ISNUMBER((K12-(O12*T12))),(K12-(O12*T12)),0) -> 0 | V12: =IF(T12,(R12*T12),"")
G13: =G4 -> 0 | K13: =IF(G13,I13*G13,"") | O13: =IF(M13,K13/M13,"") | Q13: =IF(P13,(O13/P13)*0.5,"") | R13: =IF(P13, (O13/2),"") | U13: =IF(ISNUMBER((K13-(O13*T13))),(K13-(O13*T13)),0) -> 0 | V13: =IF(T13,(R13*T13),"")
G14: =G4 -> 0 | K14: =IF(G14,I14*G14,"") | O14: =IF(M14,K14/M14,"") | Q14: =IF(P14,(O14/P14)*0.5,"") | R14: =IF(P14, (O14/2),"") | U14: =IF(ISNUMBER((K14-(O14*T14))),(K14-(O14*T14)),0) -> 0 | V14: =IF(T14,(R14*T14),"")
G15: =G4 -> 0 | K15: =IF(G15,I15*G15,"") | O15: =IF(M15,K15/M15,"") | Q15: =IF(P15,(O15/P15)*0.5,"") | R15: =IF(P15, (O15/2),"") | U15: =IF(ISNUMBER((K15-(O15*T15))),(K15-(O15*T15)),0) -> 0 | V15: =IF(T15,(R15*T15),"")
G16: =G4 -> 0 | K16: =IF(G16,I16*G16,"") | O16: =IF(M16,K16/M16,"") | Q16: =IF(P16,(O16/P16)*0.5,"") | R16: =IF(P16, (O16/2),"") | U16: =IF(ISNUMBER((K16-(O16*T16))),(K16-(O16*T16)),0) -> 0 | V16: =IF(T16,(R16*T16),"")
G17: =G4 -> 0 | K17: =IF(G17,I17*G17,"") | O17: =IF(M17,K17/M17,"") | Q17: =IF(P17,(O17/P17)*0.5,"") | R17: =IF(P17, (O17/2),"") | U17: =IF(ISNUMBER((K17-(O17*T17))),(K17-(O17*T17)),0) -> 0 | V17: =IF(T17,(R17*T17),"")
R18: =IF(P18, (O18/2),"")
A19: 11-16yrs | G19: =G4 -> 0 | K19: =IF(G19,I19*G19,"") | O19: =IF(M19,K19/M19,"") | Q19: =IF(P19,(O19/P19)*0.5,"") | R19: =IF(P19, (O19/2),"") | U19: =IF(ISNUMBER((K19-(O19*T19))),(K19-(O19*T19)),0) -> 0 | V19: =IF(T19,(R19*T19),"")
G20: =G4 -> 0 | K20: =IF(G20,I20*G20,"") | O20: =IF(M20,K20/M20,"") | Q20: =IF(P20,(O20/P20)*0.5,"") | R20: =IF(P20, (O20/2),"") | U20: =IF(ISNUMBER((K20-(O20*T20))),(K20-(O20*T20)),0) -> 0 | V20: =IF(T20,(R20*T20),"")
G21: =G4 -> 0 | K21: =IF(G21,I21*G21,"") | O21: =IF(M21,K21/M21,"") | Q21: =IF(P21,(O21/P21)*0.5,"") | R21: =IF(P21, (O21/2),"") | U21: =IF(ISNUMBER((K21-(O21*T21))),(K21-(O21*T21)),0) -> 0 | V21: =IF(T21,(R21*T21),"")
G22: =G4 -> 0 | K22: =IF(G22,I22*G22,"") | O22: =IF(M22,K22/M22,"") | Q22: =IF(P22,(O22/P22)*0.5,"") | R22: =IF(P22, (O22/2),"") | U22: =IF(ISNUMBER((K22-(O22*T22))),(K22-(O22*T22)),0) -> 0 | V22: =IF(T22,(R22*T22),"")
G23: =G4 -> 0 | K23: =IF(G23,I23*G23,"") | O23: =IF(M23,K23/M23,"") | Q23: =IF(P23,(O23/P23)*0.5,"") | R23: =IF(P23, (O23/2),"") | U23: =IF(ISNUMBER((K23-(O23*T23))),(K23-(O23*T23)),0) -> 0 | V23: =IF(T23,(R23*T23),"")
G24: =G4 -> 0 | K24: =IF(G24,I24*G24,"") | O24: =IF(M24,K24/M24,"") | Q24: =IF(P24,(O24/P24)*0.5,"") | R24: =IF(P24, (O24/2),"") | U24: =IF(ISNUMBER((K24-(O24*T24))),(K24-(O24*T24)),0) -> 0 | V24: =IF(T24,(R24*T24),"")
A26: Total | G26: =G4 -> 0 | I26: =SUM(I5:I24) -> 0 | K26: =SUM(K5:K24) -> 0 | M26: =SUM(M5:M24) -> 0 | O26: =SUM(O5:O24) -> 0 | P26: =SUM(P5:P24) -> 0 | Q26: =SUM(Q5:Q24) -> 0 | R26: =SUM(R5:R24) -> 0 | U26: =SUM(U5:U24) -> 0 | V26: =SUM(V5:V24) -> 0
I28: =IF(ISNUMBER((#REF!-(C28*H28))),(#REF!-(C28*H28)),0) -> 0 | W28: Needs to equal 1/2 of "total crush it revenue"
T32: Needs to be $0 at end of month
E34: Total from "Starting Month Registrations Page" +/- "Adds & Subs"
G35: *needs to match class total

Sheet October
A1: CLUB NAME:
A2: Age Groups | C2: Class Day of Week | E2: Class Time | G2: Price | I2: # of Juniors | K2: Total Crush It Revenue | M2: # of Classes | O2: Payout per Class | P2: # of Instructors | Q2: Payout per Instructor | R2: Crush It Dept. Revenue | T2: Weeks Paid Out | U2: Live HA Balance | V2: Live Crush It Dept. Revenue
A5: 4-6yrs | G5: =G4 -> 0 | K5: =IF(G5,I5*G5,"") | O5: =IF(M5,K5/M5,"") | Q5: =IF(P5,(O5/P5)*0.5,"") | R5: =IF(P5, (O5/2),"") | U5: =IF(ISNUMBER((K5-(O5*T5))),(K5-(O5*T5)),0) -> 0 | V5: =IF(T5,(R5*T5),"")
G6: =G4 -> 0 | K6: =IF(G6,I6*G6,"") | O6: =IF(M6,K6/M6,"") | Q6: =IF(P6,(O6/P6)*0.5,"") | R6: =IF(P6, (O6/2),"") | U6: =IF(ISNUMBER((K6-(O6*T6))),(K6-(O6*T6)),0) -> 0 | V6: =IF(T6,(R6*T6),"")
G7: =G4 -> 0 | K7: =IF(G7,I7*G7,"") | O7: =IF(M7,K7/M7,"") | Q7: =IF(P7,(O7/P7)*0.5,"") | R7: =IF(P7, (O7/2),"") | U7: =IF(ISNUMBER((K7-(O7*T7))),(K7-(O7*T7)),0) -> 0 | V7: =IF(T7,(R7*T7),"")
G8: =G4 -> 0 | K8: =IF(G8,I8*G8,"") | O8: =IF(M8,K8/M8,"") | Q8: =IF(P8,(O8/P8)*0.5,"") | R8: =IF(P8, (O8/2),"") | U8: =IF(ISNUMBER((K8-(O8*T8))),(K8-(O8*T8)),0) -> 0 | V8: =IF(T8,(R8*T8),"")
G9: =G4 -> 0 | K9: =IF(G9,I9*G9,"") | O9: =IF(M9,K9/M9,"") | Q9: =IF(P9,(O9/P9)*0.5,"") | R9: =IF(P9, (O9/2),"") | U9: =IF(ISNUMBER((K9-(O9*T9))),(K9-(O9*T9)),0) -> 0 | V9: =IF(T9,(R9*T9),"")
G10: =G4 -> 0 | K10: =IF(G10,I10*G10,"") | O10: =IF(M10,K10/M10,"") | Q10: =IF(P10,(O10/P10)*0.5,"") | R10: =IF(P10, (O10/2),"") | U10: =IF(ISNUMBER((K10-(O10*T10))),(K10-(O10*T10)),0) -> 0 | V10: =IF(T10,(R10*T10),"")
R11: =IF(P11, (O11/2),"")
A12: 6-11yrs | G12: =G4 -> 0 | K12: =IF(G12,I12*G12,"") | O12: =IF(M12,K12/M12,"") | Q12: =IF(P12,(O12/P12)*0.5,"") | R12: =IF(P12, (O12/2),"") | U12: =IF(ISNUMBER((K12-(O12*T12))),(K12-(O12*T12)),0) -> 0 | V12: =IF(T12,(R12*T12),"")
G13: =G4 -> 0 | K13: =IF(G13,I13*G13,"") | O13: =IF(M13,K13/M13,"") | Q13: =IF(P13,(O13/P13)*0.5,"") | R13: =IF(P13, (O13/2),"") | U13: =IF(ISNUMBER((K13-(O13*T13))),(K13-(O13*T13)),0) -> 0 | V13: =IF(T13,(R13*T13),"")
G14: =G4 -> 0 | K14: =IF(G14,I14*G14,"") | O14: =IF(M14,K14/M14,"") | Q14: =IF(P14,(O14/P14)*0.5,"") | R14: =IF(P14, (O14/2),"") | U14: =IF(ISNUMBER((K14-(O14*T14))),(K14-(O14*T14)),0) -> 0 | V14: =IF(T14,(R14*T14),"")
G15: =G4 -> 0 | K15: =IF(G15,I15*G15,"") | O15: =IF(M15,K15/M15,"") | Q15: =IF(P15,(O15/P15)*0.5,"") | R15: =IF(P15, (O15/2),"") | U15: =IF(ISNUMBER((K15-(O15*T15))),(K15-(O15*T15)),0) -> 0 | V15: =IF(T15,(R15*T15),"")
G16: =G4 -> 0 | K16: =IF(G16,I16*G16,"") | O16: =IF(M16,K16/M16,"") | Q16: =IF(P16,(O16/P16)*0.5,"") | R16: =IF(P16, (O16/2),"") | U16: =IF(ISNUMBER((K16-(O16*T16))),(K16-(O16*T16)),0) -> 0 | V16: =IF(T16,(R16*T16),"")
G17: =G4 -> 0 | K17: =IF(G17,I17*G17,"") | O17: =IF(M17,K17/M17,"") | Q17: =IF(P17,(O17/P17)*0.5,"") | R17: =IF(P17, (O17/2),"") | U17: =IF(ISNUMBER((K17-(O17*T17))),(K17-(O17*T17)),0) -> 0 | V17: =IF(T17,(R17*T17),"")
R18: =IF(P18, (O18/2),"")
A19: 11-16yrs | G19: =G4 -> 0 | K19: =IF(G19,I19*G19,"") | O19: =IF(M19,K19/M19,"") | Q19: =IF(P19,(O19/P19)*0.5,"") | R19: =IF(P19, (O19/2),"") | U19: =IF(ISNUMBER((K19-(O19*T19))),(K19-(O19*T19)),0) -> 0 | V19: =IF(T19,(R19*T19),"")
G20: =G4 -> 0 | K20: =IF(G20,I20*G20,"") | O20: =IF(M20,K20/M20,"") | Q20: =IF(P20,(O20/P20)*0.5,"") | R20: =IF(P20, (O20/2),"") | U20: =IF(ISNUMBER((K20-(O20*T20))),(K20-(O20*T20)),0) -> 0 | V20: =IF(T20,(R20*T20),"")
G21: =G4 -> 0 | K21: =IF(G21,I21*G21,"") | O21: =IF(M21,K21/M21,"") | Q21: =IF(P21,(O21/P21)*0.5,"") | R21: =IF(P21, (O21/2),"") | U21: =IF(ISNUMBER((K21-(O21*T21))),(K21-(O21*T21)),0) -> 0 | V21: =IF(T21,(R21*T21),"")
G22: =G4 -> 0 | K22: =IF(G22,I22*G22,"") | O22: =IF(M22,K22/M22,"") | Q22: =IF(P22,(O22/P22)*0.5,"") | R22: =IF(P22, (O22/2),"") | U22: =IF(ISNUMBER((K22-(O22*T22))),(K22-(O22*T22)),0) -> 0 | V22: =IF(T22,(R22*T22),"")
G23: =G4 -> 0 | K23: =IF(G23,I23*G23,"") | O23: =IF(M23,K23/M23,"") | Q23: =IF(P23,(O23/P23)*0.5,"") | R23: =IF(P23, (O23/2),"") | U23: =IF(ISNUMBER((K23-(O23*T23))),(K23-(O23*T23)),0) -> 0 | V23: =IF(T23,(R23*T23),"")
G24: =G4 -> 0 | K24: =IF(G24,I24*G24,"") | O24: =IF(M24,K24/M24,"") | Q24: =IF(P24,(O24/P24)*0.5,"") | R24: =IF(P24, (O24/2),"") | U24: =IF(ISNUMBER((K24-(O24*T24))),(K24-(O24*T24)),0) -> 0 | V24: =IF(T24,(R24*T24),"")
A26: Total | G26: =G4 -> 0 | I26: =SUM(I5:I24) -> 0 | K26: =SUM(K5:K24) -> 0 | M26: =SUM(M5:M24) -> 0 | O26: =SUM(O5:O24) -> 0 | P26: =SUM(P5:P24) -> 0 | Q26: =SUM(Q5:Q24) -> 0 | R26: =SUM(R5:R24) -> 0 | U26: =SUM(U5:U24) -> 0 | V26: =SUM(V5:V24) -> 0
I28: =IF(ISNUMBER((#REF!-(C28*H28))),(#REF!-(C28*H28)),0) -> 0 | W28: Needs to equal 1/2 of "total crush it revenue"
T32: Needs to be $0 at end of month
E34: Total from "Starting Month Registrations Page" +/- "Adds & Subs"
G35: *needs to match class total

Sheet November
A1: CLUB NAME:
A2: Age Groups | C2: Class Day of Week | E2: Class Time | G2: Price | I2: # of Juniors | K2: Total Crush It Revenue | M2: # of Classes | O2: Payout per Class | P2: # of Instructors | Q2: Payout per Instructor | R2: Crush It Dept. Revenue | T2: Weeks Paid Out | U2: Live HA Balance | V2: Live Crush It Dept. Revenue
A5: 4-6yrs | G5: =G4 -> 0 | K5: =IF(G5,I5*G5,"") | O5: =IF(M5,K5/M5,"") | Q5: =IF(P5,(O5/P5)*0.5,"") | R5: =IF(P5, (O5/2),"") | U5: =IF(ISNUMBER((K5-(O5*T5))),(K5-(O5*T5)),0) -> 0 | V5: =IF(T5,(R5*T5),"")
G6: =G4 -> 0 | K6: =IF(G6,I6*G6,"") | O6: =IF(M6,K6/M6,"") | Q6: =IF(P6,(O6/P6)*0.5,"") | R6: =IF(P6, (O6/2),"") | U6: =IF(ISNUMBER((K6-(O6*T6))),(K6-(O6*T6)),0) -> 0 | V6: =IF(T6,(R6*T6),"")
G7: =G4 -> 0 | K7: =IF(G7,I7*G7,"") | O7: =IF(M7,K7/M7,"") | Q7: =IF(P7,(O7/P7)*0.5,"") | R7: =IF(P7, (O7/2),"") | U7: =IF(ISNUMBER((K7-(O7*T7))),(K7-(O7*T7)),0) -> 0 | V7: =IF(T7,(R7*T7),"")
G8: =G4 -> 0 | K8: =IF(G8,I8*G8,"") | O8: =IF(M8,K8/M8,"") | Q8: =IF(P8,(O8/P8)*0.5,"") | R8: =IF(P8, (O8/2),"") | U8: =IF(ISNUMBER((K8-(O8*T8))),(K8-(O8*T8)),0) -> 0 | V8: =IF(T8,(R8*T8),"")
G9: =G4 -> 0 | K9: =IF(G9,I9*G9,"") | O9: =IF(M9,K9/M9,"") | Q9: =IF(P9,(O9/P9)*0.5,"") | R9: =IF(P9, (O9/2),"") | U9: =IF(ISNUMBER((K9-(O9*T9))),(K9-(O9*T9)),0) -> 0 | V9: =IF(T9,(R9*T9),"")
G10: =G4 -> 0 | K10: =IF(G10,I10*G10,"") | O10: =IF(M10,K10/M10,"") | Q10: =IF(P10,(O10/P10)*0.5,"") | R10: =IF(P10, (O10/2),"") | U10: =IF(ISNUMBER((K10-(O10*T10))),(K10-(O10*T10)),0) -> 0 | V10: =IF(T10,(R10*T10),"")
R11: =IF(P11, (O11/2),"")
A12: 6-11yrs | G12: =G4 -> 0 | K12: =IF(G12,I12*G12,"") | O12: =IF(M12,K12/M12,"") | Q12: =IF(P12,(O12/P12)*0.5,"") | R12: =IF(P12, (O12/2),"") | U12: =IF(ISNUMBER((K12-(O12*T12))),(K12-(O12*T12)),0) -> 0 | V12: =IF(T12,(R12*T12),"")
G13: =G4 -> 0 | K13: =IF(G13,I13*G13,"") | O13: =IF(M13,K13/M13,"") | Q13: =IF(P13,(O13/P13)*0.5,"") | R13: =IF(P13, (O13/2),"") | U13: =IF(ISNUMBER((K13-(O13*T13))),(K13-(O13*T13)),0) -> 0 | V13: =IF(T13,(R13*T13),"")
